BEGIN:VCALENDAR
VERSION:2.0
PRODID:-//Residence Sorrento - ECPv6.15.20//NONSGML v1.0//EN
CALSCALE:GREGORIAN
METHOD:PUBLISH
X-WR-CALNAME:Residence Sorrento
X-ORIGINAL-URL:https://sorrentoresidence.com/en/
X-WR-CALDESC:Events for Residence Sorrento
REFRESH-INTERVAL;VALUE=DURATION:PT1H
X-Robots-Tag:noindex
X-PUBLISHED-TTL:PT1H
BEGIN:VTIMEZONE
TZID:UTC
BEGIN:STANDARD
TZOFFSETFROM:+0000
TZOFFSETTO:+0000
TZNAME:UTC
DTSTART:20230101T000000
END:STANDARD
END:VTIMEZONE
BEGIN:VEVENT
DTSTART;TZID=UTC:20240225T080000
DTEND;TZID=UTC:20240225T170000
DTSTAMP:20260423T052951
CREATED:20240113T091349Z
LAST-MODIFIED:20240120T173626Z
UID:3194-1708848000-1708880400@sorrentoresidence.com
SUMMARY:GRAND FONDO SORRENTO 2024
DESCRIPTION:If you want to ride with the great cycling champions and enjoy the Sorrento Coast\, you can’t miss the Gran Fondo Sorrento. The first edition of this event will be held on February 25th and the dress rehearsal was held last March\, with the “Sorrento con i Campioni” event.
URL:https://sorrentoresidence.com/en/event/grand-fondo-sorrento-2024/
ATTACH;FMTTYPE=image/webp:https://sorrentoresidence.com/wp-content/uploads/2024/01/sorrento-con-i-campioni-26-marzo-2023-sorrento-fondazione-sorrento-1.webp
END:VEVENT
END:VCALENDAR