BEGIN:VCALENDAR
VERSION:2.0
PRODID:-//Residence Sorrento - ECPv6.15.20//NONSGML v1.0//EN
CALSCALE:GREGORIAN
METHOD:PUBLISH
X-ORIGINAL-URL:https://sorrentoresidence.com/en/
X-WR-CALDESC:Events for Residence Sorrento
REFRESH-INTERVAL;VALUE=DURATION:PT1H
X-Robots-Tag:noindex
X-PUBLISHED-TTL:PT1H
BEGIN:VTIMEZONE
TZID:UTC
BEGIN:STANDARD
TZOFFSETFROM:+0000
TZOFFSETTO:+0000
TZNAME:UTC
DTSTART:20230101T000000
END:STANDARD
END:VTIMEZONE
BEGIN:VEVENT
DTSTART;TZID=UTC:20240509T080000
DTEND;TZID=UTC:20240523T170000
DTSTAMP:20260423T005335
CREATED:20231223T161855Z
LAST-MODIFIED:20240120T174440Z
UID:3203-1715241600-1716483600@sorrentoresidence.com
SUMMARY:3 GULFS SORRENTO
DESCRIPTION:While the 2023 edition of the Tre Golfi Sailing Week organized between Naples and Sorrento by the Circolo del Remo e della Vela Italia last May is still present in the memories of participants and organizers\, work is already underway in view of the 2024 edition\, in which they are reconfirmed the IMA (International Maxi Association) European Championship for maxi yachts and the Mediterranean one for ORC. The Municipality of Sorrento has renewed its willingness to host the event in its iconic marina where some of the most famous Hollywood and world jet-set personalities have passed over the years\, and on whose docks epic boats have been moored\, since times of the first edition of the Tre Golfi Regatta. It was 1954 when the first edition of the Tyrrhenian long regatta started on a Friday afternoon in spring. In the following years\, the evocative midnight departure from Naples was chosen\, but it was not for reasons of style\, but rather to allow as many sailing enthusiasts to be able to participate after finishing the working day. Start blocking your stay at Residence Sorrento so as not to miss this incredible event. Call 338 684 6195 or 3312290604
URL:https://sorrentoresidence.com/en/event/3-gulfs-sorrento/
ATTACH;FMTTYPE=image/jpeg:https://sorrentoresidence.com/wp-content/uploads/2024/01/7412072_19203744_unnamed_1.jpg
END:VEVENT
BEGIN:VEVENT
DTSTART;TZID=UTC:20240513T080000
DTEND;TZID=UTC:20240515T170000
DTSTAMP:20260423T005335
CREATED:20240501T064258Z
LAST-MODIFIED:20240501T065931Z
UID:3585-1715587200-1715792400@sorrentoresidence.com
SUMMARY:Pizza in Love
DESCRIPTION:Come and visit us on 13-14-15....\n\nA few hundred meters from US\, you can participate in "Pizza d'Amare"....\n\nAn unmissable event for pizza lovers\, it will be held in the splendid setting of the Meta marina on 13\, 14 and 15 May.\n\nUnique opportunity to taste the best creations of master pizza chefs\, as well as enjoy performances by street artists and live music.\n\nUnique opportunity to enjoy traditional pizzas and new flavours.\n\nA "special guest" will be the "Da Iolanda" pizzeria in Gragnano which will offer the famous "Panuozzo di Gragnano".\n\nYou can purchase the ticket which includes 6 coupons for pizza margherita\, "panuozzo" and special taste\, as well as a drink\, dessert and coffee.\n\nFor information on the event call Sergio at +393358067060\n\nFor information on your stay call 338 684 6195.
URL:https://sorrentoresidence.com/en/event/pizza-in-love/
ATTACH;FMTTYPE=image/jpeg:https://sorrentoresidence.com/wp-content/uploads/2024/05/436349158_122131295648234955_8731824128355287349_n-1.jpg
END:VEVENT
END:VCALENDAR