BEGIN:VCALENDAR
VERSION:2.0
PRODID:-//Residence Sorrento - ECPv6.15.20//NONSGML v1.0//EN
CALSCALE:GREGORIAN
METHOD:PUBLISH
X-ORIGINAL-URL:https://sorrentoresidence.com/en/
X-WR-CALDESC:Events for Residence Sorrento
REFRESH-INTERVAL;VALUE=DURATION:PT1H
X-Robots-Tag:noindex
X-PUBLISHED-TTL:PT1H
BEGIN:VTIMEZONE
TZID:UTC
BEGIN:STANDARD
TZOFFSETFROM:+0000
TZOFFSETTO:+0000
TZNAME:UTC
DTSTART:20230101T000000
END:STANDARD
END:VTIMEZONE
BEGIN:VEVENT
DTSTART;TZID=UTC:20240805T080000
DTEND;TZID=UTC:20241115T170000
DTSTAMP:20260422T172304
CREATED:20240730T055145Z
LAST-MODIFIED:20240730T055343Z
UID:3761-1722844800-1731690000@sorrentoresidence.com
SUMMARY:Exihibition Antonio Ligabue
DESCRIPTION:An extraordinary exhibition that unites an international artist like Antonio Ligabue and Sorrento. From 5 August to 16 November 2024 the rooms of Villa Fiorentino will host the exhibition which presents itself as an anthology which allows the public to engage with works created throughout the creative life of a rebellious but brilliant\, restless and visionary artist\, who is now a true myth of twentieth century art.\n\nThe exhibition celebrates a great expressionist\, one of the protagonists of Italian art of the 20th century.\n\n \n\nThe exhibition presents 67 works: 52 of his famous oils\, including masterpieces such as Tiger's Head (1956)\, Leopard on the Rock (1960)\, Black Widow (1955)\, Eagle with Fox (1944)\, Wildcat with Kite (1960) \, Self-portrait (1959). The Portrait of Elba (1936) is extraordinary\, Ligabue's first painting dedicated to taking pictures of others\, in this case a little girl who died to console her mother.\n\n \n In Sorrento\, on display\, there are 15 of his intense bronze sculptures made from the original Po clay that the artist chewed for a long time to make it ductile.\n\nFrom August 5th to September 30th\nMonday-Friday 10am-1pm / 5pm-8pm\nSaturday\, Sunday and holidays 10am-1pm / 5pm-9pm\n\nFrom October 1st to November 16th\nMonday-Friday 10am-1pm / 4pm-7pm\nSaturday\, Sunday and holidays 10am-1pm / 4pm-8pm\n(The cash desk closes an hour early).\nENTRANCE\nFull ticket 10 euros\nReduced 7 euros for groups of at least 10 people\nFree up to 12 years\nAudio guide included
URL:https://sorrentoresidence.com/en/event/exihibition-antonio-ligabue/
ATTACH;FMTTYPE=image/png:https://sorrentoresidence.com/wp-content/uploads/2024/07/antonio-ligabue-sorrento-mostra-villa-fiorentino-2024-fondazione-sorrento-1.png
END:VEVENT
BEGIN:VEVENT
DTSTART;TZID=UTC:20241006T080000
DTEND;TZID=UTC:20241231T170000
DTSTAMP:20260422T172304
CREATED:20241005T093453Z
LAST-MODIFIED:20241005T093714Z
UID:3894-1728201600-1735664400@sorrentoresidence.com
SUMMARY:Sunday in Museum
DESCRIPTION:The #DomenicaAlMuseo initiative returns on Sunday 6 October\, an unmissable opportunity for our guests to explore the wonders of our province with free entry to museums and state archaeological parks. \n Sorrento Peninsula:  \nThe only state museum on the Sorrento peninsula is a real jewel to be promoted: the Territorial Archaeological Museum of the Sorrento Peninsula "Georges Vallet" in Villa Fondi\, located a few steps from Meta! This fascinating museum is housed in the splendid rooms of Villa Fondi de Sangro\, one of the patrician residences that characterize the architecture of the first half of the 20th century. \nThe museum was born from the need to collect and document the results of the excavations carried out in the area\, with the aim of reconstructing the various phases of population and transformation of the Sorrento peninsula.\n Naples:\n- Castel Sant'Elmo and Museum of the Twentieth Century\n- National Archaeological Museum\n- Royal Palace\nCapri:\n- Certosa di San Giacomo and National Archaeological Museum\n Pompeii and Herculaneum:\n- Archaeological Area of ​​Pompeii\n- Archaeological Park of Herculaneum\nAnd many other enchanting places just waiting to be discovered! For a complete list of openings and details\, visit: Ministry of Culture 👉 https://cultura.gov.it/domenicalmuseo.
URL:https://sorrentoresidence.com/en/event/sunday-in-museum/
ATTACH;FMTTYPE=image/jpeg:https://sorrentoresidence.com/wp-content/uploads/2024/10/462005105_122179421834234955_6832581742816411254_n-1.jpg
END:VEVENT
BEGIN:VEVENT
DTSTART;TZID=UTC:20241013T080000
DTEND;TZID=UTC:20241026T170000
DTSTAMP:20260422T172304
CREATED:20241009T042030Z
LAST-MODIFIED:20241009T042222Z
UID:3902-1728806400-1729962000@sorrentoresidence.com
SUMMARY:SORRENTO WALKS 2024
DESCRIPTION:Four appointments to admire some of the most evocative places in Sorrento.
URL:https://sorrentoresidence.com/en/event/sorrento-walks-2024/
ATTACH;FMTTYPE=image/jpeg:https://sorrentoresidence.com/wp-content/uploads/2024/10/Screenshot_20241009_060505-1.jpg
END:VEVENT
END:VCALENDAR