BEGIN:VCALENDAR
VERSION:2.0
PRODID:-//Residence Sorrento - ECPv6.15.20//NONSGML v1.0//EN
CALSCALE:GREGORIAN
METHOD:PUBLISH
X-WR-CALNAME:Residence Sorrento
X-ORIGINAL-URL:https://sorrentoresidence.com/en/
X-WR-CALDESC:Events for Residence Sorrento
REFRESH-INTERVAL;VALUE=DURATION:PT1H
X-Robots-Tag:noindex
X-PUBLISHED-TTL:PT1H
BEGIN:VTIMEZONE
TZID:UTC
BEGIN:STANDARD
TZOFFSETFROM:+0000
TZOFFSETTO:+0000
TZNAME:UTC
DTSTART:20230101T000000
END:STANDARD
END:VTIMEZONE
BEGIN:VEVENT
DTSTART;TZID=UTC:20241109T080000
DTEND;TZID=UTC:20250331T170000
DTSTAMP:20260422T111453
CREATED:20241109T075224Z
LAST-MODIFIED:20241109T075420Z
UID:3965-1731139200-1743440400@sorrentoresidence.com
SUMMARY:Le 13 porte
DESCRIPTION:The 13 Doors” is the name given to the hiking project taking inspiration from the 13 parishes scattered across the area. The door symbolizes the spiritual entrance into each of the communities\, but it is also in our intent a geographical indication\, which leads to the characteristic villages and suggestive churches present there around which they have been built since ancient times and in which small jewels and traces of past eras\nA program of magnificent walks in the most recommended places in Vico Equense.
URL:https://sorrentoresidence.com/en/event/le-13-porte/
ATTACH;FMTTYPE=image/jpeg:https://sorrentoresidence.com/wp-content/uploads/2024/11/466383564_122186969294234955_655203472915534213_n.jpg
END:VEVENT
BEGIN:VEVENT
DTSTART;TZID=UTC:20250201T080000
DTEND;TZID=UTC:20250301T170000
DTSTAMP:20260422T111453
CREATED:20250125T090039Z
LAST-MODIFIED:20250125T090301Z
UID:4094-1738396800-1740848400@sorrentoresidence.com
SUMMARY:Moments of daily life
DESCRIPTION:Moments of daily life in the beating heart of Sorrento at Villa Fiorentino. They are those immortalized by Antonino Di Maio’s camera lens. Thanks to a privileged observatory\, a window that directly overlooks Piazza Tasso\, the engineer has the opportunity to capture the most significant moments of the life of the city\, together with those of extraordinary ordinariness. An attentive eye\, but never prying or intrusive.
URL:https://sorrentoresidence.com/en/event/moments-of-daily-life/
ATTACH;FMTTYPE=image/jpeg:https://sorrentoresidence.com/wp-content/uploads/2025/01/8611763_23141603_screenshot_20250123_141508_gallery-1.jpg
END:VEVENT
BEGIN:VEVENT
DTSTART;TZID=UTC:20250202T080000
DTEND;TZID=UTC:20250203T170000
DTSTAMP:20260422T111453
CREATED:20250118T132839Z
LAST-MODIFIED:20250118T133006Z
UID:4078-1738483200-1738602000@sorrentoresidence.com
SUMMARY:Stabia Acqua Half Marathon 2025
DESCRIPTION:The race will take place on February 2\, 2025\, starting from Vico Equense at 8.30 am. You run suspended over the magnificent sea of ​​the Gulf of Naples and the greenery of Mount Faito\, all with Vesuvius and Ischia in the background. Warm up your muscles\, the Stabiaequa awaits you!
URL:https://sorrentoresidence.com/en/event/stabia-acqua-half-marathon-2025/
ATTACH;FMTTYPE=image/jpeg:https://sorrentoresidence.com/wp-content/uploads/2025/01/cropped-LOGO-RIVISITATO-2021-scaled-1-1.jpg
END:VEVENT
END:VCALENDAR