BEGIN:VCALENDAR
VERSION:2.0
PRODID:-//Residence Sorrento - ECPv6.15.20//NONSGML v1.0//EN
CALSCALE:GREGORIAN
METHOD:PUBLISH
X-WR-CALNAME:Residence Sorrento
X-ORIGINAL-URL:https://sorrentoresidence.com/en/
X-WR-CALDESC:Events for Residence Sorrento
REFRESH-INTERVAL;VALUE=DURATION:PT1H
X-Robots-Tag:noindex
X-PUBLISHED-TTL:PT1H
BEGIN:VTIMEZONE
TZID:UTC
BEGIN:STANDARD
TZOFFSETFROM:+0000
TZOFFSETTO:+0000
TZNAME:UTC
DTSTART:20230101T000000
END:STANDARD
END:VTIMEZONE
BEGIN:VEVENT
DTSTART;TZID=UTC:20241109T080000
DTEND;TZID=UTC:20250331T170000
DTSTAMP:20260422T094916
CREATED:20241109T075224Z
LAST-MODIFIED:20241109T075420Z
UID:3965-1731139200-1743440400@sorrentoresidence.com
SUMMARY:Le 13 porte
DESCRIPTION:The 13 Doors” is the name given to the hiking project taking inspiration from the 13 parishes scattered across the area. The door symbolizes the spiritual entrance into each of the communities\, but it is also in our intent a geographical indication\, which leads to the characteristic villages and suggestive churches present there around which they have been built since ancient times and in which small jewels and traces of past eras\nA program of magnificent walks in the most recommended places in Vico Equense.
URL:https://sorrentoresidence.com/en/event/le-13-porte/
ATTACH;FMTTYPE=image/jpeg:https://sorrentoresidence.com/wp-content/uploads/2024/11/466383564_122186969294234955_655203472915534213_n.jpg
END:VEVENT
BEGIN:VEVENT
DTSTART;TZID=UTC:20250306T080000
DTEND;TZID=UTC:20250328T170000
DTSTAMP:20260422T094916
CREATED:20250306T043210Z
LAST-MODIFIED:20250306T043347Z
UID:4163-1741248000-1743181200@sorrentoresidence.com
SUMMARY:Women's day
DESCRIPTION:Four events to celebrate International Women’s Day\, scheduled in Sorrento\, in various locations\, from tomorrow\, March 6th until March 28th\, promoted by the Equal Opportunities Commission of the Municipality of Sorrento.
URL:https://sorrentoresidence.com/en/event/womens-day/
ATTACH;FMTTYPE=image/jpeg:https://sorrentoresidence.com/wp-content/uploads/2025/03/481507564_1075359721284884_1894164130569649494_n-1.jpg
END:VEVENT
BEGIN:VEVENT
DTSTART;TZID=UTC:20250320T080000
DTEND;TZID=UTC:20250325T170000
DTSTAMP:20260422T094916
CREATED:20250320T053157Z
LAST-MODIFIED:20250320T053402Z
UID:4179-1742457600-1742922000@sorrentoresidence.com
SUMMARY:The citrus fruit exhibition
DESCRIPTION:Tomorrow\, March 20\, at 11 am\, the citrus fruit exhibition entitled “Sant’Antonino dei giardinieri” will be inaugurated at Villa Fiorentino\, organized by the Sorrento Gardenclub in collaboration with the Sorrento Foundation\, as part of the celebrations promoted by the Municipality of Sorrento and the Archdiocese of Sorrento-Castellammare di Stabia\, for the 14th centenary of the death of Sant’Antonino Abate\, and the hundredth anniversary of the elevation to Pontifical Basilica of the church named after him. The exhibition will explore the roots and peasant tradition\, linked to the cultivation of citrus fruits\, which for decades has been one of the main activities for the city’s economy.
URL:https://sorrentoresidence.com/en/event/the-citrus-fruit-exhibition/
ATTACH;FMTTYPE=image/jpeg:https://sorrentoresidence.com/wp-content/uploads/2025/03/485660044_1087324343421755_718700207901275022_n-1.jpg
END:VEVENT
END:VCALENDAR