BEGIN:VCALENDAR
VERSION:2.0
PRODID:-//Residence Sorrento - ECPv6.15.20//NONSGML v1.0//EN
CALSCALE:GREGORIAN
METHOD:PUBLISH
X-WR-CALNAME:Residence Sorrento
X-ORIGINAL-URL:https://sorrentoresidence.com/en/
X-WR-CALDESC:Events for Residence Sorrento
REFRESH-INTERVAL;VALUE=DURATION:PT1H
X-Robots-Tag:noindex
X-PUBLISHED-TTL:PT1H
BEGIN:VTIMEZONE
TZID:UTC
BEGIN:STANDARD
TZOFFSETFROM:+0000
TZOFFSETTO:+0000
TZNAME:UTC
DTSTART:20240101T000000
END:STANDARD
END:VTIMEZONE
BEGIN:VEVENT
DTSTART;TZID=UTC:20250401T080000
DTEND;TZID=UTC:20250402T170000
DTSTAMP:20260422T091656
CREATED:20250326T044944Z
LAST-MODIFIED:20250326T045109Z
UID:4196-1743494400-1743613200@sorrentoresidence.com
SUMMARY:Spring Reopen
DESCRIPTION:On Wednesday\, April 2\, the Correale Museum will reopen to the public after the usual winter closure. There are many new features for this new season\, including the rearrangement of the Piano Blu with the exhibition of the collection of the Posillipo School\, the richest of the last 60 years. The reopening event will be preceded by the inauguration of the new Director of the Correale Museum Fabio Mangone\, University Professor and Architect\, which will be held in the presence of the President of the Correale Museum Gaetano Mauro\, the Mayor Massimo Coppola and the Superintendent ABAP for the Metropolitan Area of ​​Naples Mariano Nuzzo\, on Tuesday\, April 1 at 4 pm in the Hall of Mirrors of the Correale Museum.
URL:https://sorrentoresidence.com/en/event/spring-reopen/
ATTACH;FMTTYPE=image/jpeg:https://sorrentoresidence.com/wp-content/uploads/2025/03/486089965_1256361459830735_3354334253287290442_n-1.jpg
END:VEVENT
END:VCALENDAR