BEGIN:VCALENDAR
VERSION:2.0
PRODID:-//Residence Sorrento - ECPv6.15.20//NONSGML v1.0//EN
CALSCALE:GREGORIAN
METHOD:PUBLISH
X-WR-CALNAME:Residence Sorrento
X-ORIGINAL-URL:https://sorrentoresidence.com/en/
X-WR-CALDESC:Events for Residence Sorrento
REFRESH-INTERVAL;VALUE=DURATION:PT1H
X-Robots-Tag:noindex
X-PUBLISHED-TTL:PT1H
BEGIN:VTIMEZONE
TZID:UTC
BEGIN:STANDARD
TZOFFSETFROM:+0000
TZOFFSETTO:+0000
TZNAME:UTC
DTSTART:20240101T000000
END:STANDARD
END:VTIMEZONE
BEGIN:VEVENT
DTSTART;TZID=UTC:20250406T080000
DTEND;TZID=UTC:20250531T170000
DTSTAMP:20260422T091654
CREATED:20250326T045444Z
LAST-MODIFIED:20250326T045632Z
UID:4204-1743926400-1748710800@sorrentoresidence.com
SUMMARY:Excursions with family
DESCRIPTION:With the beginning of spring\, the first excursions to discover the beauties of the Sorrento Peninsula begin.\n\nLet’s start with two pearls of our land: the Baia di Ieranto and Punta Campanella.
URL:https://sorrentoresidence.com/en/event/excursions-with-family/
ATTACH;FMTTYPE=image/jpeg:https://sorrentoresidence.com/wp-content/uploads/2025/03/Screenshot_20250326_052229_Instagram-1.jpg
END:VEVENT
BEGIN:VEVENT
DTSTART;TZID=UTC:20250413T080000
DTEND;TZID=UTC:20250418T170000
DTSTAMP:20260422T091654
CREATED:20250316T074641Z
LAST-MODIFIED:20250316T074922Z
UID:4171-1744531200-1744995600@sorrentoresidence.com
SUMMARY:Easter processions
DESCRIPTION:With Carnival now behind us\, the Sorrento Peninsula is looking towards Easter 2025 – next April 20 – with its unique traditions\, its characteristic scents that smell of freesias\, wood-fired ovens and incense;\n\nThe Holy Week Processions are about to return!\n\nHoly Week 2025 with its rites and processional parades will begin on Monday 13 and end on Friday 18 April.\n\nFrom Massa Lubrense to Vico Equense\, various events and processions will take place. Follow us so you don’t miss any appointments!
URL:https://sorrentoresidence.com/en/event/easter-processions/
ATTACH;FMTTYPE=image/jpeg:https://sorrentoresidence.com/wp-content/uploads/2025/03/7329046_05071320_received_230351459489398_002_-1.jpg
END:VEVENT
END:VCALENDAR