BEGIN:VCALENDAR
VERSION:2.0
PRODID:-//Residence Sorrento - ECPv6.15.20//NONSGML v1.0//EN
CALSCALE:GREGORIAN
METHOD:PUBLISH
X-ORIGINAL-URL:https://sorrentoresidence.com/en/
X-WR-CALDESC:Events for Residence Sorrento
REFRESH-INTERVAL;VALUE=DURATION:PT1H
X-Robots-Tag:noindex
X-PUBLISHED-TTL:PT1H
BEGIN:VTIMEZONE
TZID:UTC
BEGIN:STANDARD
TZOFFSETFROM:+0000
TZOFFSETTO:+0000
TZNAME:UTC
DTSTART:20240101T000000
END:STANDARD
END:VTIMEZONE
BEGIN:VEVENT
DTSTART;TZID=UTC:20250725T080000
DTEND;TZID=UTC:20250728T170000
DTSTAMP:20260422T005654
CREATED:20250511T061302Z
LAST-MODIFIED:20250511T061414Z
UID:4222-1753430400-1753722000@sorrentoresidence.com
SUMMARY:FESTA SANT'ANNA
DESCRIPTION:Unmissable event: incredible boat tours under the fireworks await you.
URL:https://sorrentoresidence.com/en/event/festa-santanna/
ATTACH;FMTTYPE=image/jpeg:https://sorrentoresidence.com/wp-content/uploads/2025/05/eventi-speciali-fuochi-pirotecnici-1.jpg
END:VEVENT
END:VCALENDAR