BEGIN:VCALENDAR
VERSION:2.0
PRODID:-//Residence Sorrento - ECPv6.15.20//NONSGML v1.0//EN
CALSCALE:GREGORIAN
METHOD:PUBLISH
X-ORIGINAL-URL:https://sorrentoresidence.com/en/
X-WR-CALDESC:Events for Residence Sorrento
REFRESH-INTERVAL;VALUE=DURATION:PT1H
X-Robots-Tag:noindex
X-PUBLISHED-TTL:PT1H
BEGIN:VTIMEZONE
TZID:UTC
BEGIN:STANDARD
TZOFFSETFROM:+0000
TZOFFSETTO:+0000
TZNAME:UTC
DTSTART:20240101T000000
END:STANDARD
END:VTIMEZONE
BEGIN:VEVENT
DTSTART;TZID=UTC:20250801T080000
DTEND;TZID=UTC:20250929T170000
DTSTAMP:20260422T005645
CREATED:20250628T143851Z
LAST-MODIFIED:20250628T144031Z
UID:4255-1754035200-1759165200@sorrentoresidence.com
SUMMARY:Blu Summer
DESCRIPTION:The Estate Blu 2025 in Piano di Sorrento is a packed program of events that will accompany citizens and visitors also in the month of August\, until September 27\, with events distributed in some of the most suggestive places of the city: Villa Fondi\, Marina di Cassano\, Piazza Cota\, Ripa di Cassano and the picturesque neighboring villages.\n\nFrom the heart of the Sorrento Peninsula comes the Estate Blu 2025 – Davanti al Golfo di Surriento\, the rich summer festival organized by the Municipal Administration of Piano di Sorrento\, with the support of the Department of Culture\, Tourism and Entertainment.
URL:https://sorrentoresidence.com/en/event/blu-summer/
ATTACH;FMTTYPE=image/webp:https://sorrentoresidence.com/wp-content/uploads/2025/06/2-1-1.webp
END:VEVENT
END:VCALENDAR