BEGIN:VCALENDAR
VERSION:2.0
PRODID:-//Residence Sorrento - ECPv6.15.20//NONSGML v1.0//EN
CALSCALE:GREGORIAN
METHOD:PUBLISH
X-WR-CALNAME:Residence Sorrento
X-ORIGINAL-URL:https://sorrentoresidence.com/en/
X-WR-CALDESC:Events for Residence Sorrento
REFRESH-INTERVAL;VALUE=DURATION:PT1H
X-Robots-Tag:noindex
X-PUBLISHED-TTL:PT1H
BEGIN:VTIMEZONE
TZID:UTC
BEGIN:STANDARD
TZOFFSETFROM:+0000
TZOFFSETTO:+0000
TZNAME:UTC
DTSTART:20220101T000000
END:STANDARD
END:VTIMEZONE
BEGIN:VEVENT
DTSTART;TZID=UTC:20240312T080000
DTEND;TZID=UTC:20240312T170000
DTSTAMP:20260423T070039
CREATED:20240122T064449Z
LAST-MODIFIED:20240122T064735Z
UID:3226-1710230400-1710262800@sorrentoresidence.com
SUMMARY:ULTRA TRAIL POSITANO AMALFI 2024
DESCRIPTION:The Trail degli Dei amateur sports association\, chaired by Dr. Giovanni Acampora\, organizes the 2024 edition of the UltraTrail Running race\, a long-distance nature race\, called Amalfi Positano Ultratrail which will take place on Sunday 12 May 2024. The Amalfi Positano Ultra Trail takes place within one of the most evocative and celebrated territories in the world\, also declared a UNESCO heritage site. A trail running race that overlooks what is called “the other side of the coast”. Take this opportunity to organize your holiday on the Sorrento Peninsula in May 2024… Organize your Sorrento – Positano – Amalfi tours and don’t miss this wonderful opportunity. Book your holiday at 3386846195 or 3312290604 at Residence Sorrento
URL:https://sorrentoresidence.com/en/event/ultra-trail-positano-amalfi-2024/
ATTACH;FMTTYPE=image/jpeg:https://sorrentoresidence.com/wp-content/uploads/2024/01/d1f59157eb2018copertina3990ce3d52854copertinaamalfipositano-2022-lunga-1.jpg
END:VEVENT
BEGIN:VEVENT
DTSTART;TZID=UTC:20240225T080000
DTEND;TZID=UTC:20240225T170000
DTSTAMP:20260423T070039
CREATED:20240113T091349Z
LAST-MODIFIED:20240120T173626Z
UID:3194-1708848000-1708880400@sorrentoresidence.com
SUMMARY:GRAND FONDO SORRENTO 2024
DESCRIPTION:If you want to ride with the great cycling champions and enjoy the Sorrento Coast\, you can’t miss the Gran Fondo Sorrento. The first edition of this event will be held on February 25th and the dress rehearsal was held last March\, with the “Sorrento con i Campioni” event.
URL:https://sorrentoresidence.com/en/event/grand-fondo-sorrento-2024/
ATTACH;FMTTYPE=image/webp:https://sorrentoresidence.com/wp-content/uploads/2024/01/sorrento-con-i-campioni-26-marzo-2023-sorrento-fondazione-sorrento-1.webp
END:VEVENT
BEGIN:VEVENT
DTSTART;TZID=UTC:20240211T080000
DTEND;TZID=UTC:20240214T170000
DTSTAMP:20260423T070039
CREATED:20240122T063300Z
LAST-MODIFIED:20240122T063501Z
UID:3218-1707638400-1707930000@sorrentoresidence.com
SUMMARY:CARNIVAL IN MAIORI
DESCRIPTION:From February 11th the whole Peninsula will be filled with colors to celebrate the 2024 carnival. We can’t wait to publish the events organized by each municipality. It will be a unique opportunity to visit Sorrento during a quiet period\, with few queues at museums and clubs. To carry out the most beautiful tours in nearby paradises… An example? The beautiful Maiori and its traditional carnival. It is edition number 50; The most famous Carnival on the Amalfi Coast turns half a century old. Hurry and book your holiday in Sorrento and organize your tours. Call Residence Sorrento on 3386816495 or 3312290604 www.sorrentoresidence.com
URL:https://sorrentoresidence.com/en/event/carnival-in-maiori/
ATTACH;FMTTYPE=image/jpeg:https://sorrentoresidence.com/wp-content/uploads/2024/01/preview-2024-1.jpg
END:VEVENT
BEGIN:VEVENT
DTSTART;TZID=UTC:20240211T080000
DTEND;TZID=UTC:20240213T170000
DTSTAMP:20260423T070039
CREATED:20240205T062344Z
LAST-MODIFIED:20240205T062918Z
UID:3280-1707638400-1707843600@sorrentoresidence.com
SUMMARY:Carnival 2024 in Piano di Sorrento
DESCRIPTION:Piano di Sorrento inaugurates the carnival in the Sorrento peninsula with a magnificent event dedicated to adults and children. we can’t wait to accompany our guests
URL:https://sorrentoresidence.com/en/event/carnival-2024-in-piano-di-sorrento/
ATTACH;FMTTYPE=image/jpeg:https://sorrentoresidence.com/wp-content/uploads/2024/02/piano-di-sorrento-carnevale-2024-1-1.jpg
END:VEVENT
BEGIN:VEVENT
DTSTART;TZID=UTC:20231202T080000
DTEND;TZID=UTC:20240128T170000
DTSTAMP:20260423T070039
CREATED:20231201T055135Z
LAST-MODIFIED:20240120T172823Z
UID:3186-1701504000-1706461200@sorrentoresidence.com
SUMMARY:The figure and the landscape
DESCRIPTION:The works of 20th century Neapolitan painters are on display in Sorrento Twentieth century painting in Naples. The attention of the exhibition that opens next Saturday at Villa Fiorentino focuses on Neapolitan artists who established themselves in the last century. In the rooms of the splendid residence overlooking Corso Italia\, the works representing the work of 33 artists of the Neapolitan school born between the end of the nineteenth century and the beginning of the twentieth century will be hosted: Gaetano Bocchetti\, Giovanni Brancaccio\, Antonio Bresciani\, Rubens Capaldo\, Giuseppe and Guido Casciaro\, Alberto Chiancone\, Vincenzo Ciardo\, Nicola Ciletti\, Mario Cortiello\, Luigi Crisconio\, Edgardo Curcio\, Nicola Fabricatore\, Domenico Fiorentino\, Francesco Galante\, Manlio Giarrizzo\, Franco Girosi\, Biagio Mercadante\, Emilio Notte\, Edoardo Pansini\, Paolo Pratella\, Gaetano Ricchizzi\, Roberto Scognamiglio\, Eugenio Scorzelli\, Carlo Striccoli\, Amerigo Tamburrini\, Carlo Verdecchia\, Gennaro Villani\, Eugenio Viti\, Pasquale Vitiello\, Mario Vittorio. A woman\, the wonderful painter Ada Pratella\, and a living artist\, Salvatore Vitagliano\, complete the list of chosen painters. The vernissage is scheduled for next Saturday\, December 2\, 2023\, at 5.30 pm. The exhibition can be visited until 28 January 2024\, from Monday to Friday from 10am to 1pm and from 4pm to 7pm\, Saturday\, Sunday and holidays until 8pm. The cost of the ticket is 5 euros (free entry for residents of Sorrento). What are you waiting for to book your Christmas holiday at Residence Sorrento? Book on 3312290604 or 338 684 6195 Www.sorrentoresidence.com
URL:https://sorrentoresidence.com/en/event/the-figure-and-the-landscape/
ATTACH;FMTTYPE=image/jpeg:https://sorrentoresidence.com/wp-content/uploads/2024/01/La-figura-e-il-paesaggio-loc-1-scaled.jpg
END:VEVENT
BEGIN:VEVENT
DTSTART;TZID=UTC:20230325T100000
DTEND;TZID=UTC:20230325T163000
DTSTAMP:20260423T070039
CREATED:20230322T145653Z
LAST-MODIFIED:20230502T160848Z
UID:1797-1679738400-1679761800@sorrentoresidence.com
SUMMARY:Sorrento Walks 2023
DESCRIPTION:Hello\n\nThe Sorrento Walks 2023 walking program kicks off. Weekend with Fai Spring Days\n\nFour events\, March 25 and 26\, April 1 and May 7\, from the sea to the hills\n\nThe program of Sorrento Walks 2023 walks\, all free and suitable for all ages\, opens on March 25\, with itinerary number 13\, one of the two historic links between Massa Lubrense and Sorrento\, which allows visitors to reach\, via the 13a link road\, the archaeological site of the villa of the Capo di Sorrento\, in the area of Bagni della Regina Giovanna.\n\nThere are two departures\, both from Piazza Torquato Tasso\, at 10 a.m. and 2:30 p.m.\n\nThe Roman villa of the Bagni della Regina Giovanna will also be the protagonist of the Spring Days of Fai\, the Fund for the Italian Environment\, which will take place on March 25 on March 26.\nOn Saturday\, the appointment is from 10 a.m. to 5 p.m.\, every hour\, at the Capo di Sorrento parish church. On Sunday\, guided tours will start at 2 p.m. and end at 5 p.m.\n\nReservations are required\, using the link https://faiprenotazioni.fondoambiente.it/evento/bagni-della-regina-giovanna-44218/\n\nIt continues on Saturday\, April 1\, and Sunday\, May 7\, with Sorrento Walks offering itinerary 22\, so-called of the “Villages of the Sorrento Valley.”\n\nOn April 1\, departure at 3 p.m. from the Sorrento Brewery\, with tasting of Dallarancia beer (reservations required at the email centrodelriusosorrento@gmail.com)\, while on May 7 the rally point is at 4 p.m. in Via Arigliola\, near the Bambin Gesù\, where representatives of the cultural association La Selva will welcome participants.\n\nWe look forward to seeing you at Residence Sorrento for an ideal vacation for all those who love trekking and walking
URL:https://sorrentoresidence.com/en/event/sorrento-walks-2023/
ATTACH;FMTTYPE=image/jpeg:https://sorrentoresidence.com/wp-content/uploads/2023/03/Sorrento-Walks-Programma-Camminate-2023.jpg
END:VEVENT
BEGIN:VEVENT
DTSTART;TZID=UTC:20230325T100000
DTEND;TZID=UTC:20230325T163000
DTSTAMP:20260423T070039
CREATED:20230322T145653Z
LAST-MODIFIED:20230502T160848Z
UID:1797-1679738400-1679761800@sorrentoresidence.com
SUMMARY:Sorrento Walks 2023
DESCRIPTION:Hello\n\nThe Sorrento Walks 2023 walking program kicks off. Weekend with Fai Spring Days\n\nFour events\, March 25 and 26\, April 1 and May 7\, from the sea to the hills\n\nThe program of Sorrento Walks 2023 walks\, all free and suitable for all ages\, opens on March 25\, with itinerary number 13\, one of the two historic links between Massa Lubrense and Sorrento\, which allows visitors to reach\, via the 13a link road\, the archaeological site of the villa of the Capo di Sorrento\, in the area of Bagni della Regina Giovanna.\n\nThere are two departures\, both from Piazza Torquato Tasso\, at 10 a.m. and 2:30 p.m.\n\nThe Roman villa of the Bagni della Regina Giovanna will also be the protagonist of the Spring Days of Fai\, the Fund for the Italian Environment\, which will take place on March 25 on March 26.\nOn Saturday\, the appointment is from 10 a.m. to 5 p.m.\, every hour\, at the Capo di Sorrento parish church. On Sunday\, guided tours will start at 2 p.m. and end at 5 p.m.\n\nReservations are required\, using the link https://faiprenotazioni.fondoambiente.it/evento/bagni-della-regina-giovanna-44218/\n\nIt continues on Saturday\, April 1\, and Sunday\, May 7\, with Sorrento Walks offering itinerary 22\, so-called of the “Villages of the Sorrento Valley.”\n\nOn April 1\, departure at 3 p.m. from the Sorrento Brewery\, with tasting of Dallarancia beer (reservations required at the email centrodelriusosorrento@gmail.com)\, while on May 7 the rally point is at 4 p.m. in Via Arigliola\, near the Bambin Gesù\, where representatives of the cultural association La Selva will welcome participants.\n\nWe look forward to seeing you at Residence Sorrento for an ideal vacation for all those who love trekking and walking
URL:https://sorrentoresidence.com/en/event/sorrento-walks-2023/
ATTACH;FMTTYPE=image/jpeg:https://sorrentoresidence.com/wp-content/uploads/2023/03/Sorrento-Walks-Programma-Camminate-2023.jpg
END:VEVENT
BEGIN:VEVENT
DTSTART;TZID=UTC:20230325T100000
DTEND;TZID=UTC:20230325T163000
DTSTAMP:20260423T070039
CREATED:20230322T145653Z
LAST-MODIFIED:20230502T160848Z
UID:1797-1679738400-1679761800@sorrentoresidence.com
SUMMARY:Sorrento Walks 2023
DESCRIPTION:Hello\n\nThe Sorrento Walks 2023 walking program kicks off. Weekend with Fai Spring Days\n\nFour events\, March 25 and 26\, April 1 and May 7\, from the sea to the hills\n\nThe program of Sorrento Walks 2023 walks\, all free and suitable for all ages\, opens on March 25\, with itinerary number 13\, one of the two historic links between Massa Lubrense and Sorrento\, which allows visitors to reach\, via the 13a link road\, the archaeological site of the villa of the Capo di Sorrento\, in the area of Bagni della Regina Giovanna.\n\nThere are two departures\, both from Piazza Torquato Tasso\, at 10 a.m. and 2:30 p.m.\n\nThe Roman villa of the Bagni della Regina Giovanna will also be the protagonist of the Spring Days of Fai\, the Fund for the Italian Environment\, which will take place on March 25 on March 26.\nOn Saturday\, the appointment is from 10 a.m. to 5 p.m.\, every hour\, at the Capo di Sorrento parish church. On Sunday\, guided tours will start at 2 p.m. and end at 5 p.m.\n\nReservations are required\, using the link https://faiprenotazioni.fondoambiente.it/evento/bagni-della-regina-giovanna-44218/\n\nIt continues on Saturday\, April 1\, and Sunday\, May 7\, with Sorrento Walks offering itinerary 22\, so-called of the “Villages of the Sorrento Valley.”\n\nOn April 1\, departure at 3 p.m. from the Sorrento Brewery\, with tasting of Dallarancia beer (reservations required at the email centrodelriusosorrento@gmail.com)\, while on May 7 the rally point is at 4 p.m. in Via Arigliola\, near the Bambin Gesù\, where representatives of the cultural association La Selva will welcome participants.\n\nWe look forward to seeing you at Residence Sorrento for an ideal vacation for all those who love trekking and walking
URL:https://sorrentoresidence.com/en/event/sorrento-walks-2023/
ATTACH;FMTTYPE=image/jpeg:https://sorrentoresidence.com/wp-content/uploads/2023/03/Sorrento-Walks-Programma-Camminate-2023.jpg
END:VEVENT
END:VCALENDAR