BEGIN:VCALENDAR
VERSION:2.0
PRODID:-//Residence Sorrento - ECPv6.15.20//NONSGML v1.0//EN
CALSCALE:GREGORIAN
METHOD:PUBLISH
X-ORIGINAL-URL:https://sorrentoresidence.com/en/
X-WR-CALDESC:Events for Residence Sorrento
REFRESH-INTERVAL;VALUE=DURATION:PT1H
X-Robots-Tag:noindex
X-PUBLISHED-TTL:PT1H
BEGIN:VTIMEZONE
TZID:UTC
BEGIN:STANDARD
TZOFFSETFROM:+0000
TZOFFSETTO:+0000
TZNAME:UTC
DTSTART:20230101T000000
END:STANDARD
END:VTIMEZONE
BEGIN:VEVENT
DTSTART;TZID=UTC:20240701T080000
DTEND;TZID=UTC:20240831T170000
DTSTAMP:20260422T220142
CREATED:20240723T041145Z
LAST-MODIFIED:20240723T042729Z
UID:3739-1719820800-1725123600@sorrentoresidence.com
SUMMARY:Ars Fuoro Sorrento
DESCRIPTION:Thursday 11 July 2024 at 7.30 pm\, the non-profit cultural association "Piacere\, Sorrento" presents "Ars Fuoro"\, at Masseria Sorrentino in Via San Nicola\, 35 in Sorrento.\n\nGiven the excellent response from visitors to the outdoor photographic exhibition "Sophia Loren - from Marina Grande to the world" underway in the characteristic Vico II Fuoro\, a new idea is about to materialize!\n\nThe non-profit association "Piacere\, Sorrento"\, therefore\, is pleased to present an innovative cultural and artistic project.\n\nThis project\, in fact\, will involve an entire quadrilateral of the ancient historic center of Sorrento: ARS FUORO.
URL:https://sorrentoresidence.com/en/event/ars-fuoro-sorrento/
ATTACH;FMTTYPE=image/webp:https://sorrentoresidence.com/wp-content/uploads/2024/07/locandina_inaugurazione-scaled-2.webp
END:VEVENT
BEGIN:VEVENT
DTSTART;TZID=UTC:20240801T080000
DTEND;TZID=UTC:20240803T170000
DTSTAMP:20260422T220142
CREATED:20240709T054008Z
LAST-MODIFIED:20240711T055746Z
UID:3703-1722499200-1722704400@sorrentoresidence.com
SUMMARY:A Vico per Cacio
DESCRIPTION:We announce with great enthusiasm the 2024 edition of 𝐀 𝐕𝐢𝐜𝐨 𝐏𝐞𝐫 𝐂𝐚𝐜𝐢𝐨o! \n\nSave the dates: 𝟏\, 𝟐 𝐞 𝟑 𝐚𝐠𝐨𝐬𝐭𝐨\, from 7.00 pm\, in the charming historic center of Vico Equense. The dairies of Vico will participate to propose and enhance the products and dairy tradition of our land. An unmissable opportunity to immerse yourself in authentic flavors and local gastronomic excellence.\n\nCome and discover and taste our cheeses\, the result of passion and craftsmanship\, and experience unforgettable evenings full of taste and conviviality.  \n\nContinue following us to find out more and stay up to date!\n\n𝐀 𝐕𝐢𝐜𝐨 𝐏𝐞𝐫 𝐂𝐚𝐜𝐢𝐨
URL:https://sorrentoresidence.com/en/event/a-vico-per-cacio/
ATTACH;FMTTYPE=image/jpeg:https://sorrentoresidence.com/wp-content/uploads/2024/07/Comunicato-A-Vico-per-Cacio-2024-2-1.jpg
END:VEVENT
BEGIN:VEVENT
DTSTART;TZID=UTC:20240803T080000
DTEND;TZID=UTC:20240901T170000
DTSTAMP:20260422T220142
CREATED:20240802T040225Z
LAST-MODIFIED:20240802T040502Z
UID:3769-1722672000-1725210000@sorrentoresidence.com
SUMMARY:Beach Party in Marina Grande
DESCRIPTION:Series of unmissable events for adults and children in Sorrento
URL:https://sorrentoresidence.com/en/event/beach-party-in-marina-grande/
ATTACH;FMTTYPE=image/jpeg:https://sorrentoresidence.com/wp-content/uploads/2024/08/Screenshot_20240802_055950-1.jpg
END:VEVENT
BEGIN:VEVENT
DTSTART;TZID=UTC:20240804T080000
DTEND;TZID=UTC:20240806T170000
DTSTAMP:20260422T220142
CREATED:20240715T051428Z
LAST-MODIFIED:20240715T051709Z
UID:3715-1722758400-1722963600@sorrentoresidence.com
SUMMARY:Sagra del Raviulillo 2024
DESCRIPTION:T\n\n\n\n\n\nThe festival that celebrates the little devil on hot coals is scheduled for 4 to 6 August 2024. The appointment with the “Riavulillo Festival”\, a classic in the panorama of summer events in Vico Equense\, is renewed for 2024 too.
URL:https://sorrentoresidence.com/en/event/sagra-del-raviulillo-2024/
ATTACH;FMTTYPE=image/jpeg:https://sorrentoresidence.com/wp-content/uploads/2024/07/449765890_18010207997529800_3040798845677149299_n-1.jpg
END:VEVENT
BEGIN:VEVENT
DTSTART;TZID=UTC:20240805T080000
DTEND;TZID=UTC:20241115T170000
DTSTAMP:20260422T220142
CREATED:20240730T055145Z
LAST-MODIFIED:20240730T055343Z
UID:3761-1722844800-1731690000@sorrentoresidence.com
SUMMARY:Exihibition Antonio Ligabue
DESCRIPTION:An extraordinary exhibition that unites an international artist like Antonio Ligabue and Sorrento. From 5 August to 16 November 2024 the rooms of Villa Fiorentino will host the exhibition which presents itself as an anthology which allows the public to engage with works created throughout the creative life of a rebellious but brilliant\, restless and visionary artist\, who is now a true myth of twentieth century art.\n\nThe exhibition celebrates a great expressionist\, one of the protagonists of Italian art of the 20th century.\n\n \n\nThe exhibition presents 67 works: 52 of his famous oils\, including masterpieces such as Tiger's Head (1956)\, Leopard on the Rock (1960)\, Black Widow (1955)\, Eagle with Fox (1944)\, Wildcat with Kite (1960) \, Self-portrait (1959). The Portrait of Elba (1936) is extraordinary\, Ligabue's first painting dedicated to taking pictures of others\, in this case a little girl who died to console her mother.\n\n \n In Sorrento\, on display\, there are 15 of his intense bronze sculptures made from the original Po clay that the artist chewed for a long time to make it ductile.\n\nFrom August 5th to September 30th\nMonday-Friday 10am-1pm / 5pm-8pm\nSaturday\, Sunday and holidays 10am-1pm / 5pm-9pm\n\nFrom October 1st to November 16th\nMonday-Friday 10am-1pm / 4pm-7pm\nSaturday\, Sunday and holidays 10am-1pm / 4pm-8pm\n(The cash desk closes an hour early).\nENTRANCE\nFull ticket 10 euros\nReduced 7 euros for groups of at least 10 people\nFree up to 12 years\nAudio guide included
URL:https://sorrentoresidence.com/en/event/exihibition-antonio-ligabue/
ATTACH;FMTTYPE=image/png:https://sorrentoresidence.com/wp-content/uploads/2024/07/antonio-ligabue-sorrento-mostra-villa-fiorentino-2024-fondazione-sorrento-1.png
END:VEVENT
BEGIN:VEVENT
DTSTART;TZID=UTC:20240813T080000
DTEND;TZID=UTC:20240813T170000
DTSTAMP:20260422T220142
CREATED:20240812T134739Z
LAST-MODIFIED:20240812T134909Z
UID:3785-1723536000-1723568400@sorrentoresidence.com
SUMMARY:T'Anguriata Rossa
DESCRIPTION:Tuesday 13 August 2024  \n🕘 Time: 9pm  \n📍 Where: Piazza Casale\, Meta  \n(300 meters from Villa Harmony)\n\n✨ Special Guest: Pasquale Palma and the enchanting energy of WHY&NOT! 🎶 \n\nThe evening will be full of fun and joy for everyone!\n\n🍉 Start of celebrations: From 8.00 pm\, don't miss the opportunity to admire the wonderful watermelon sculptures and take part in the traditional Watermelon Game\n\n💃 Dance Show: Attend the performance of the talented US ACLI group “'CASSIOPEA”\, directed by Eliana\, and let yourself be carried away by the music!\n\n🎁 T'Angurriata lottery: Don't forget to participate to win fantastic prizes\, including:\n\n1️⃣ HAVE A GOOD TRIP ✈️  \n2️⃣ ELECTRIC SCOOTER 🛴  \n3️⃣ SMARTPHONE 📱  \n4️⃣ TICKET TO MIRABILANDIA (2 days for 2 adults + 1 child) 🎢  \n5️⃣ WEEKEND x 2 at the Terme di Saturnia 🌊  \n…and many other fantastic prizes!\n\n🍉 Free watermelon for everyone! You can't miss it!
URL:https://sorrentoresidence.com/en/event/tanguriata-rossa/
ATTACH;FMTTYPE=image/jpeg:https://sorrentoresidence.com/wp-content/uploads/2024/08/IMG-20240812-WA0009-1.jpg
END:VEVENT
BEGIN:VEVENT
DTSTART;TZID=UTC:20240815T080000
DTEND;TZID=UTC:20240815T170000
DTSTAMP:20260422T220142
CREATED:20240812T134259Z
LAST-MODIFIED:20240812T134458Z
UID:3777-1723708800-1723741200@sorrentoresidence.com
SUMMARY:Mid-August fireworks in Sorrento
DESCRIPTION:
URL:https://sorrentoresidence.com/en/event/mid-august-fireworks-in-sorrento/
ATTACH;FMTTYPE=image/jpeg:https://sorrentoresidence.com/wp-content/uploads/2024/08/Screenshot_20240812_135009-1.jpg
END:VEVENT
BEGIN:VEVENT
DTSTART;TZID=UTC:20240818T080000
DTEND;TZID=UTC:20240820T170000
DTSTAMP:20260422T220142
CREATED:20240818T141638Z
LAST-MODIFIED:20240818T141815Z
UID:3801-1723968000-1724173200@sorrentoresidence.com
SUMMARY:Polpette Festival
DESCRIPTION:
URL:https://sorrentoresidence.com/en/event/polpette-festival/
ATTACH;FMTTYPE=image/webp:https://sorrentoresidence.com/wp-content/uploads/2024/08/polpette-in-festa-18-19-e-20-agosto-2024-santa-maria-del-castello-vico-equense-about-sorrento-1.webp
END:VEVENT
BEGIN:VEVENT
DTSTART;TZID=UTC:20240825T080000
DTEND;TZID=UTC:20240827T170000
DTSTAMP:20260422T220142
CREATED:20240818T141352Z
LAST-MODIFIED:20240818T141518Z
UID:3793-1724572800-1724778000@sorrentoresidence.com
SUMMARY:Potato Festival
DESCRIPTION:
URL:https://sorrentoresidence.com/en/event/potato-festival/
ATTACH;FMTTYPE=image/jpeg:https://sorrentoresidence.com/wp-content/uploads/2024/08/452448708_908653921305140_3766851546400647157_n-1.jpg
END:VEVENT
BEGIN:VEVENT
DTSTART;TZID=UTC:20240831T080000
DTEND;TZID=UTC:20240831T170000
DTSTAMP:20260422T220142
CREATED:20240715T052730Z
LAST-MODIFIED:20240715T052934Z
UID:3723-1725091200-1725123600@sorrentoresidence.com
SUMMARY:The spectacel of dawn
DESCRIPTION:The spectacle of dawn - Inventions for three voices\, is the unmissable event on June 29th at the Archaeological Park of Herculaneum with repeat performances on July 20th and August 31st\, an original CoopCulture production\, which will animate some of the historical wonders until August \, artistic and archaeological of Italy. Herculaneum is the first archaeological park to become the setting for a journey between archeology and sound\, in a crescendo of emotions that unites monuments\, nature and territory\, presenting the place in a completely new way at the first light of the morning. Music will become the underlying theme of an evocative experience\, expressed in a narrative that crosses eras and cultures\, telling stories of grandeur and drama and blending with the grandiose archaeological landscape. The musical program embraces a vast repertoire\, from the music of Roberto De Simone\, Benjamin Britten. W.A. Mozart\, Gabriel Fauré\, Jansug Kakhidze and songs from the popular traditions of Campania\, Sardinia and Portugal\, interpreted by the voice of Marina Bruno\, Enzo Pietropaoli on double bass and Daniele Sepe on saxophone.
URL:https://sorrentoresidence.com/en/event/the-spectacel-of-dawn/
ATTACH;FMTTYPE=image/png:https://sorrentoresidence.com/wp-content/uploads/2024/07/lo-spettacolo-dellalba-ercolano-1024x751-2.png
END:VEVENT
BEGIN:VEVENT
DTSTART;TZID=UTC:20240908T080000
DTEND;TZID=UTC:20240908T170000
DTSTAMP:20260422T220142
CREATED:20240830T045315Z
LAST-MODIFIED:20240830T045552Z
UID:3817-1725782400-1725814800@sorrentoresidence.com
SUMMARY:Vibraemozioni
DESCRIPTION:Meditation\, yoga\, music and nature. They are the ingredients of the projects "A sea of ​​emotions" and "Vibraemozioni"\, promoted by the Municipality of Sorrento and organized by Mahadevi Group\, in collaboration with Sorrento Walks and Penisolaverde.\n\nFree appointment\, in equally suggestive locations in Sorrento\, conceived and led by Ines Ercolano\, Siaf holistic operator\, Csen yoga teacher and gong master\, with the participation of the musician Camilla Mancuso.\n\n8 September\, at 7.30 pm\, at the Bastione di Parsano the "Meditative Concert for Love and Peace"\, which offers particular vibrant and harmonious sounds\, stimulating a process of harmonization and rebalancing on all energetic and physical bodies\, mediated by activation of certain areas of the brain
URL:https://sorrentoresidence.com/en/event/vibraemozioni/
ATTACH;FMTTYPE=image/jpeg:https://sorrentoresidence.com/wp-content/uploads/2024/08/457159734_122169923396234955_1757116094891071020_n-1.jpg
END:VEVENT
BEGIN:VEVENT
DTSTART;TZID=UTC:20240908T080000
DTEND;TZID=UTC:20240927T170000
DTSTAMP:20260422T220142
CREATED:20240907T150231Z
LAST-MODIFIED:20240907T150746Z
UID:3835-1725782400-1727456400@sorrentoresidence.com
SUMMARY:Tarantella di Sorrento
DESCRIPTION:Four appointments to rediscover the charm of the Sorrento tarantella\, traditional music and typical musical instruments.
URL:https://sorrentoresidence.com/en/event/tarantella-di-sorrento/
ATTACH;FMTTYPE=image/webp:https://sorrentoresidence.com/wp-content/uploads/2024/09/Eventi-estate-2021-Sorrento-spettacolo-di-tarantella-Sorrento-Folk.webp
END:VEVENT
BEGIN:VEVENT
DTSTART;TZID=UTC:20240910T080000
DTEND;TZID=UTC:20240912T170000
DTSTAMP:20260422T220142
CREATED:20240823T040956Z
LAST-MODIFIED:20240823T041128Z
UID:3809-1725955200-1726160400@sorrentoresidence.com
SUMMARY:Meta Mare in festa 2024
DESCRIPTION:s summer ending? Not for Meta which inaugurates the highly anticipated seventh edition of Meta Mare in Festa 2024. A party aimed at celebrating the Madonna del Lauro\, in the name of flavours\, tradition and music.
URL:https://sorrentoresidence.com/en/event/meta-mare-in-festa-2024/
ATTACH;FMTTYPE=image/jpeg:https://sorrentoresidence.com/wp-content/uploads/2024/08/Screenshot_20240823_060444.jpg
END:VEVENT
BEGIN:VEVENT
DTSTART;TZID=UTC:20240912T080000
DTEND;TZID=UTC:20240915T170000
DTSTAMP:20260422T220142
CREATED:20240907T065005Z
LAST-MODIFIED:20240907T065210Z
UID:3826-1726128000-1726419600@sorrentoresidence.com
SUMMARY:Ship modelling exhibition
DESCRIPTION:Ship modelling exhibition in Meta
URL:https://sorrentoresidence.com/en/event/ship-modelling-exhibition/
ATTACH;FMTTYPE=image/jpeg:https://sorrentoresidence.com/wp-content/uploads/2024/09/Screenshot_20240907_084701-1.jpg
END:VEVENT
BEGIN:VEVENT
DTSTART;TZID=UTC:20240927T080000
DTEND;TZID=UTC:20240927T170000
DTSTAMP:20260422T220142
CREATED:20240922T160629Z
LAST-MODIFIED:20240922T160821Z
UID:3851-1727424000-1727456400@sorrentoresidence.com
SUMMARY:One hundred years in one night
DESCRIPTION:Grand masked ball at the Correale museum in Sorrent
URL:https://sorrentoresidence.com/en/event/one-hundred-years-in-one-night/
ATTACH;FMTTYPE=image/jpeg:https://sorrentoresidence.com/wp-content/uploads/2024/09/461128601_17938487360875445_8710262547016127798_n-1.jpg
END:VEVENT
BEGIN:VEVENT
DTSTART;TZID=UTC:20241003T080000
DTEND;TZID=UTC:20241006T170000
DTSTAMP:20260422T220142
CREATED:20241003T053443Z
LAST-MODIFIED:20241003T053613Z
UID:3886-1727942400-1728234000@sorrentoresidence.com
SUMMARY:Regina Giovanna Trophy
DESCRIPTION:From 4 to 6 October\, the body of water in front of Marina Grande\, in Sorrento\, hosts the fourth edition of the Regina Giovanna Trophy.\nDedicated to traditional wooden lateen sailing boats\, in memory of the ancient local maritime\, commercial and fishing tradition\, the event is sponsored by the Municipality of Sorrento and organized by the Aprea wood shipyard\, by the Sorrento section of the Italian Naval League and by the Circolo Alimuri of Meta. \n"The gathering was created to give continuity to the tradition of lateen sailing in the waters of Sorrento - explains the president of the city council\, Luigi Di Prisco - The initiative takes place as part of the Circuit of the Sirens of Southern Italy\, which sees stops in Salerno\, Pisciotta\, Reggio Calabria\, Scilla\, Palinuro and Vico Equense An opportunity for all sailing and sea enthusiasts to admire these magnificent boats".\nFifteen will compete in the three-day Regina Giovanna Trophy. The program also includes convivial moments and the final awards ceremony\, on the afternoon of October 6th.
URL:https://sorrentoresidence.com/en/event/regina-giovanna-trophy/
ATTACH;FMTTYPE=image/jpeg:https://sorrentoresidence.com/wp-content/uploads/2024/10/FB_IMG_1727933290325-1.jpg
END:VEVENT
BEGIN:VEVENT
DTSTART;TZID=UTC:20241005T080000
DTEND;TZID=UTC:20241007T170000
DTSTAMP:20260422T220142
CREATED:20240929T160411Z
LAST-MODIFIED:20240929T160551Z
UID:3861-1728115200-1728320400@sorrentoresidence.com
SUMMARY:Grape Festival
DESCRIPTION:From 5 to 7 October 2024 Prioria\, a hamlet of Sorrento\, will host the traditional Grape Festival\, coinciding with the Feast of the Madonna del Rosario.\n\nThree days dedicated to the grape harvest\, music\, tradition\, gastronomy and fun.
URL:https://sorrentoresidence.com/en/event/grape-festival/
ATTACH;FMTTYPE=image/jpeg:https://sorrentoresidence.com/wp-content/uploads/2024/09/FB_IMG_1727620745664-1.jpg
END:VEVENT
BEGIN:VEVENT
DTSTART;TZID=UTC:20241006T080000
DTEND;TZID=UTC:20241231T170000
DTSTAMP:20260422T220142
CREATED:20241005T093453Z
LAST-MODIFIED:20241005T093714Z
UID:3894-1728201600-1735664400@sorrentoresidence.com
SUMMARY:Sunday in Museum
DESCRIPTION:The #DomenicaAlMuseo initiative returns on Sunday 6 October\, an unmissable opportunity for our guests to explore the wonders of our province with free entry to museums and state archaeological parks. \n Sorrento Peninsula:  \nThe only state museum on the Sorrento peninsula is a real jewel to be promoted: the Territorial Archaeological Museum of the Sorrento Peninsula "Georges Vallet" in Villa Fondi\, located a few steps from Meta! This fascinating museum is housed in the splendid rooms of Villa Fondi de Sangro\, one of the patrician residences that characterize the architecture of the first half of the 20th century. \nThe museum was born from the need to collect and document the results of the excavations carried out in the area\, with the aim of reconstructing the various phases of population and transformation of the Sorrento peninsula.\n Naples:\n- Castel Sant'Elmo and Museum of the Twentieth Century\n- National Archaeological Museum\n- Royal Palace\nCapri:\n- Certosa di San Giacomo and National Archaeological Museum\n Pompeii and Herculaneum:\n- Archaeological Area of ​​Pompeii\n- Archaeological Park of Herculaneum\nAnd many other enchanting places just waiting to be discovered! For a complete list of openings and details\, visit: Ministry of Culture 👉 https://cultura.gov.it/domenicalmuseo.
URL:https://sorrentoresidence.com/en/event/sunday-in-museum/
ATTACH;FMTTYPE=image/jpeg:https://sorrentoresidence.com/wp-content/uploads/2024/10/462005105_122179421834234955_6832581742816411254_n-1.jpg
END:VEVENT
BEGIN:VEVENT
DTSTART;TZID=UTC:20241013T080000
DTEND;TZID=UTC:20241026T170000
DTSTAMP:20260422T220142
CREATED:20241009T042030Z
LAST-MODIFIED:20241009T042222Z
UID:3902-1728806400-1729962000@sorrentoresidence.com
SUMMARY:SORRENTO WALKS 2024
DESCRIPTION:Four appointments to admire some of the most evocative places in Sorrento.
URL:https://sorrentoresidence.com/en/event/sorrento-walks-2024/
ATTACH;FMTTYPE=image/jpeg:https://sorrentoresidence.com/wp-content/uploads/2024/10/Screenshot_20241009_060505-1.jpg
END:VEVENT
BEGIN:VEVENT
DTSTART;TZID=UTC:20241031T080000
DTEND;TZID=UTC:20241031T170000
DTSTAMP:20260422T220142
CREATED:20241026T082942Z
LAST-MODIFIED:20241026T083134Z
UID:3910-1730361600-1730394000@sorrentoresidence.com
SUMMARY:Believer
DESCRIPTION:Believer\, a magnificent show by Sabrina di Monda\, will be staged on Thursday 31 October at 9pm at the Teatro Tasso.
URL:https://sorrentoresidence.com/en/event/believer/
ATTACH;FMTTYPE=image/jpeg:https://sorrentoresidence.com/wp-content/uploads/2024/10/464303210_2865921153563785_5418743190121548122_n-1.jpg
END:VEVENT
BEGIN:VEVENT
DTSTART;TZID=UTC:20241103T080000
DTEND;TZID=UTC:20241103T170000
DTSTAMP:20260422T220142
CREATED:20241031T045217Z
LAST-MODIFIED:20241031T045413Z
UID:3919-1730620800-1730653200@sorrentoresidence.com
SUMMARY:Special Opening At Villa Romana
DESCRIPTION:Special and free opening at the splendid Roman Villa in Positano
URL:https://sorrentoresidence.com/en/event/special-opening-at-villa-romana/
ATTACH;FMTTYPE=image/jpeg:https://sorrentoresidence.com/wp-content/uploads/2024/10/Screenshot_20241031_053535_Instagram-1.jpg
END:VEVENT
BEGIN:VEVENT
DTSTART;TZID=UTC:20241109T080000
DTEND;TZID=UTC:20250331T170000
DTSTAMP:20260422T220142
CREATED:20241109T075224Z
LAST-MODIFIED:20241109T075420Z
UID:3965-1731139200-1743440400@sorrentoresidence.com
SUMMARY:Le 13 porte
DESCRIPTION:The 13 Doors” is the name given to the hiking project taking inspiration from the 13 parishes scattered across the area. The door symbolizes the spiritual entrance into each of the communities\, but it is also in our intent a geographical indication\, which leads to the characteristic villages and suggestive churches present there around which they have been built since ancient times and in which small jewels and traces of past eras\nA program of magnificent walks in the most recommended places in Vico Equense.
URL:https://sorrentoresidence.com/en/event/le-13-porte/
ATTACH;FMTTYPE=image/jpeg:https://sorrentoresidence.com/wp-content/uploads/2024/11/466383564_122186969294234955_655203472915534213_n.jpg
END:VEVENT
BEGIN:VEVENT
DTSTART;TZID=UTC:20241110T080000
DTEND;TZID=UTC:20241110T170000
DTSTAMP:20260422T220142
CREATED:20241105T050224Z
LAST-MODIFIED:20241105T050338Z
UID:3947-1731225600-1731258000@sorrentoresidence.com
SUMMARY:Sorrento Walks
DESCRIPTION:Four appointments to admire the most evocative places in Sorrento 🚶‍➡️🌱🍋
URL:https://sorrentoresidence.com/en/event/sorrento-walks/
ATTACH;FMTTYPE=image/jpeg:https://sorrentoresidence.com/wp-content/uploads/2024/11/FB_IMG_1730781321009-1.jpg
END:VEVENT
BEGIN:VEVENT
DTSTART;TZID=UTC:20241123T080000
DTEND;TZID=UTC:20241123T170000
DTSTAMP:20260422T220142
CREATED:20241102T095538Z
LAST-MODIFIED:20241102T095734Z
UID:3929-1732348800-1732381200@sorrentoresidence.com
SUMMARY:Lighting Christmas Tree
DESCRIPTION:The day of the long-awaited lighting of the Christmas tree and the Sorrento lights has finally been set: November 23rd at 6.00 pm in Piazza Tasso.
URL:https://sorrentoresidence.com/en/event/lighting-christmas-tree/
ATTACH;FMTTYPE=image/jpeg:https://sorrentoresidence.com/wp-content/uploads/2024/11/hq720-1.jpg
END:VEVENT
BEGIN:VEVENT
DTSTART;TZID=UTC:20241124T080000
DTEND;TZID=UTC:20241226T170000
DTSTAMP:20260422T220142
CREATED:20241105T050539Z
LAST-MODIFIED:20241105T050655Z
UID:3957-1732435200-1735232400@sorrentoresidence.com
SUMMARY:Santa Claus Village
DESCRIPTION:A magnificent event for adults and children among the alleys of Meta di Sorrento. A characteristic Santa Claus village to discover the Sorrento villages.
URL:https://sorrentoresidence.com/en/event/santa-claus-village/
ATTACH;FMTTYPE=image/jpeg:https://sorrentoresidence.com/wp-content/uploads/2024/11/465460837_1060430409115440_2291918311895256969_n-1.jpg
END:VEVENT
BEGIN:VEVENT
DTSTART;TZID=UTC:20241129T080000
DTEND;TZID=UTC:20241201T170000
DTSTAMP:20260422T220142
CREATED:20241102T095945Z
LAST-MODIFIED:20241102T100108Z
UID:3937-1732867200-1733072400@sorrentoresidence.com
SUMMARY:Black friday e shopping under tree
DESCRIPTION:"Shopping under the tree" is the title of the event as part of the M'illumino d'inverno program\, which will give citizens and visitors the opportunity to take advantage of discounts and promotions in the shops participating in the initiative.
URL:https://sorrentoresidence.com/en/event/black-friday-e-shopping-under-tree/
ATTACH;FMTTYPE=image/jpeg:https://sorrentoresidence.com/wp-content/uploads/2024/11/mercatini-natale-napoli.cityrumors.it-20231113-1.jpg
END:VEVENT
BEGIN:VEVENT
DTSTART;TZID=UTC:20241201T080000
DTEND;TZID=UTC:20241220T170000
DTSTAMP:20260422T220142
CREATED:20241201T094617Z
LAST-MODIFIED:20241201T094804Z
UID:3993-1733040000-1734714000@sorrentoresidence.com
SUMMARY:Natale'a between the villages and the marinas
DESCRIPTION:"Natalèa between the villages and the marinas - between lights and waves" is underway\, the theater and music festival\, directed by Marco Palmieri.\nWe start this evening\, at 7.15 pm in the church of Santa Lucia with "Ninna Nanna a Maria" with Francesca Maresca and Marco Palmieri\, to continue on 5 December at 7 pm\, in the church of Sant'Anna in Marina Grande\, with Gerardo Amarante and Spaccapaese in "Cantamm pe' te". Again\, on 19 December at 6.30 pm in the church of Sant'Attanasio Vescovo di Priora\, with Gaetano Stella and Musicastoria in "Da Napule a Betlemme"\, and on Friday 20th at 8 pm in the Church of Santa Maria di Casarlano\, with Fiorenza Calogero in "Il Knight of Mamma Schiavona".\nFree entry while places last.
URL:https://sorrentoresidence.com/en/event/natalea-between-the-villages-and-the-marinas/
ATTACH;FMTTYPE=image/jpeg:https://sorrentoresidence.com/wp-content/uploads/2024/12/FB_IMG_1733046175127-1.jpg
END:VEVENT
BEGIN:VEVENT
DTSTART;TZID=UTC:20241206T080000
DTEND;TZID=UTC:20241208T170000
DTSTAMP:20260422T220142
CREATED:20241119T044415Z
LAST-MODIFIED:20241119T044601Z
UID:3985-1733472000-1733677200@sorrentoresidence.com
SUMMARY:Sorrento Street Food 2024
DESCRIPTION:he Sorrento Street Food Village is back! 🍟🍕🌭🥪🌮🥙🧆🍿\nFrom 6 to 8 December\, a swarm of colorful Apecars full of goodness will invade Sorrento!\n\nFrom Friday 6th to Sunday 8th December\, Piazza A. Lauro will be the beating heart of the Sorrento Street Food Village 2024! A festival that celebrates the meeting between tradition and innovation: the tradition of Italian cuisine\, renowned throughout the world\, and the originality of kitchens on wheels\, beautiful\, creative and irresistible.\n\nLet yourself be won over by a variety of delicacies: fantastic sandwiches\, fried and pocket pizzas\, gourmet proposals\, signature fried foods\, Sicilian specialties and many other delights such as kebabs\, caciocavallo hanged and much more... all freshly prepared!\n\nOpening hours will be from 5.30pm to 11.30pm every day\, and on Sunday 8th we will also be open for lunch from 12.00pm.\n\nArtistic programming:\n\nFriday 6 December\n“Tony Tammaro”\nin concert starting at 9:00 pm\n\nSaturday 7 December\n“Nicola Caso”\nin concert starting at 9:00 pm\n\nSunday 8 December\n“Marco Palmieri” will present the Typical Neapolitan Tombola\nstarting from 6.00 pm (show offered by Confcommercio
URL:https://sorrentoresidence.com/en/event/sorrento-street-food-2024/
ATTACH;FMTTYPE=image/jpeg:https://sorrentoresidence.com/wp-content/uploads/2024/11/FB_IMG_1731990940228-1.jpg
END:VEVENT
BEGIN:VEVENT
DTSTART;TZID=UTC:20241210T080000
DTEND;TZID=UTC:20241226T170000
DTSTAMP:20260422T220142
CREATED:20241210T061932Z
LAST-MODIFIED:20241215T105243Z
UID:4016-1733817600-1735232400@sorrentoresidence.com
SUMMARY:Santa Claus Village In Villa Fiorentino
DESCRIPTION:Event for adults and children with lots of surprises in the beautiful Villa Fiorentino in the center of Sorrento
URL:https://sorrentoresidence.com/en/event/santa-claus-village-in-villa-fiorentino/
ATTACH;FMTTYPE=image/jpeg:https://sorrentoresidence.com/wp-content/uploads/2024/12/1000137428-2.jpg
END:VEVENT
BEGIN:VEVENT
DTSTART;TZID=UTC:20241210T080000
DTEND;TZID=UTC:20250115T170000
DTSTAMP:20260422T220142
CREATED:20241210T061621Z
LAST-MODIFIED:20241210T061745Z
UID:4001-1733817600-1736960400@sorrentoresidence.com
SUMMARY:Nativity scene in Museo Correale
DESCRIPTION:Finally the Correale Museum exhibits its valuable Neapolitan shepherds from the 18th century\, a gift from the Pompeo Correale collection
URL:https://sorrentoresidence.com/en/event/nativity-scene-in-museo-correale/
ATTACH;FMTTYPE=image/jpeg:https://sorrentoresidence.com/wp-content/uploads/2024/12/Screenshot_20241210_070857_Instagram-1.jpg
END:VEVENT
END:VCALENDAR