BEGIN:VCALENDAR
VERSION:2.0
PRODID:-//Residence Sorrento - ECPv6.15.20//NONSGML v1.0//EN
CALSCALE:GREGORIAN
METHOD:PUBLISH
X-WR-CALNAME:Residence Sorrento
X-ORIGINAL-URL:https://sorrentoresidence.com/en/
X-WR-CALDESC:Events for Residence Sorrento
REFRESH-INTERVAL;VALUE=DURATION:PT1H
X-Robots-Tag:noindex
X-PUBLISHED-TTL:PT1H
BEGIN:VTIMEZONE
TZID:UTC
BEGIN:STANDARD
TZOFFSETFROM:+0000
TZOFFSETTO:+0000
TZNAME:UTC
DTSTART:20240101T000000
END:STANDARD
END:VTIMEZONE
BEGIN:VEVENT
DTSTART;TZID=UTC:20250910T080000
DTEND;TZID=UTC:20250913T170000
DTSTAMP:20260422T220319
CREATED:20250903T051825Z
LAST-MODIFIED:20250903T051950Z
UID:4276-1757491200-1757782800@sorrentoresidence.com
SUMMARY:Meta mare in festa 2025
DESCRIPTION:📅 September 10-11-12\, 2025\nMeta Mare in… Festa 🌞 8th edition\nMusic\, shows\, food and wine\, events\, and… much more!\n🎶 META BUSKERS Festival: Street artists from all over Italy will perform surprising and engaging performances! 🎭
URL:https://sorrentoresidence.com/en/event/meta-mare-in-festa-2025/
ATTACH;FMTTYPE=image/jpeg:https://sorrentoresidence.com/wp-content/uploads/2025/09/540442219_746315314891662_7578396323851634977_n-1.jpg
END:VEVENT
BEGIN:VEVENT
DTSTART;TZID=UTC:20250926T080000
DTEND;TZID=UTC:20250928T170000
DTSTAMP:20260422T220319
CREATED:20250118T131958Z
LAST-MODIFIED:20250118T132210Z
UID:4070-1758873600-1759078800@sorrentoresidence.com
SUMMARY:Regatta Flying Dutchman
DESCRIPTION:In the last weekend of September\, the stretch of sea that washes the coast of Meta\, on the Sorrento peninsula\, will become the regatta field for the fifth stage of the national circuit of the Flying Dutchman class. An event organized by the Circolo Nautico Marina di Alimuri which promises to be a competition that will bring together the best of Italian and international sailing.
URL:https://sorrentoresidence.com/en/event/regatta-flying-dutchman/
ATTACH;FMTTYPE=image/jpeg:https://sorrentoresidence.com/wp-content/uploads/2025/01/8590831_13135657_11736771800-1.jpg
END:VEVENT
BEGIN:VEVENT
DTSTART;TZID=UTC:20251214T080000
DTEND;TZID=UTC:20260110T170000
DTSTAMP:20260422T220319
CREATED:20251214T083732Z
LAST-MODIFIED:20251214T084327Z
UID:4285-1765699200-1768064400@sorrentoresidence.com
SUMMARY:Christmas 2025 in Sorrento
DESCRIPTION:Throughout the Christmas season\, the heart of Sorrento will also host Santa’s Village\, designed for families and children.\nWith shows\, creative workshops\, and refreshments offering traditional holiday sweets\, the village will be a place to soak up the true Christmas atmosphere.\n\nDuring the Christmas holidays\, the traditional Nativity Scene Exhibition is also expected at Villa Fiorentino. The exhibition\, which in previous years has brought together dozens of artisanal nativity scenes created by local masters and schools\, will open from December 1st to January 18th.\n\nThe historic rooms and splendid terrace of Villa Fiorentino\, overlooking the sea of ​​the Sorrento Peninsula\, will offer the perfect setting to discover the art of the nativity scene: from characteristic Neapolitan shepherds to contemporary interpretations\, in a narrative journey that invites contemplation of the Nativity and tradition.\n\nAdmission to the exhibition is free.\n\nAmong the Christmas events in Sorrento\, “Araprite ‘e purtune\, ce sta O’ presepio” stands out\, a one-of-a-kind living nativity scene set in the ancient gates of the historic center. From December 28 to 30\, 2025\, from 5:30 pm to 8:30 pm.
URL:https://sorrentoresidence.com/en/event/christmas-2025-in-sorrento/
ATTACH;FMTTYPE=image/webp:https://sorrentoresidence.com/wp-content/uploads/2025/12/Albero-Natale-Sorrento-1.webp
END:VEVENT
BEGIN:VEVENT
DTSTART;TZID=UTC:20251220T080000
DTEND;TZID=UTC:20251228T170000
DTSTAMP:20260422T220319
CREATED:20251216T054115Z
LAST-MODIFIED:20251216T054424Z
UID:4301-1766217600-1766941200@sorrentoresidence.com
SUMMARY:Christmas in the land of sirens
DESCRIPTION:A project that intertwines sea\, history\, traditions\, and local produce\, transforming the holidays into an authentic discovery experience between Meta and the Sorrento Peninsula. Guided excursions\, stories of identity\, and timeless landscapes lead participants through ancient villages\, historic churches\, shipyards\, archaeological sites\, and nature trails\, restoring value and memory to these places.
URL:https://sorrentoresidence.com/en/event/christmas-in-the-land-of-sirens/
ATTACH;FMTTYPE=image/jpeg:https://sorrentoresidence.com/wp-content/uploads/2025/12/589909879_18070919270616182_8077129344254451663_n-1.jpg
END:VEVENT
BEGIN:VEVENT
DTSTART;TZID=UTC:20251231T080000
DTEND;TZID=UTC:20251231T170000
DTSTAMP:20260422T220319
CREATED:20251217T052521Z
LAST-MODIFIED:20251217T052752Z
UID:4331-1767168000-1767200400@sorrentoresidence.com
SUMMARY:Solidarity Nativity Scene
DESCRIPTION:Our Presepio meanders through Sorrento’s alleys and doorways\, revealing its splendid details and corners steeped in history. \n\n\n\nArchitectural beauty\, folklore\, tradition\, and faith come together to offer you a unique experience we’re sure you won’t forget.
URL:https://sorrentoresidence.com/en/event/solidarity-nativity-scene/
ATTACH;FMTTYPE=image/jpeg:https://sorrentoresidence.com/wp-content/uploads/2025/12/587038461_1269618945186339_3838518220537197543_n-1.jpg
END:VEVENT
BEGIN:VEVENT
DTSTART;TZID=UTC:20260305T080000
DTEND;TZID=UTC:20260315T170000
DTSTAMP:20260422T220319
CREATED:20260305T050826Z
LAST-MODIFIED:20260305T051022Z
UID:4372-1772697600-1773594000@sorrentoresidence.com
SUMMARY:Creative Existences
DESCRIPTION:The Sorrento Foundation presents {R}Creative Existences\, a group exhibition of painting\, sculpture\, and photography\, taking place at Villa Fiorentino from February 20 to March 15\, 2026. \n\n\n\nThe exhibition offers a comprehensive artistic journey\, focusing on creativity as a form of cultural and contemporary resistance.
URL:https://sorrentoresidence.com/en/event/creative-existences/
ATTACH;FMTTYPE=image/jpeg:https://sorrentoresidence.com/wp-content/uploads/2026/03/647168462_1335755051906968_195279443436619262_n-1.jpg
END:VEVENT
BEGIN:VEVENT
DTSTART;TZID=UTC:20260420T080000
DTEND;TZID=UTC:20260423T170000
DTSTAMP:20260422T220319
CREATED:20260417T034210Z
LAST-MODIFIED:20260417T034344Z
UID:4388-1776672000-1776963600@sorrentoresidence.com
SUMMARY:Sorrento Gnocchi day
DESCRIPTION:The Sorrento Peninsula is famous for its lemons\, breathtaking views\, and crystal-clear waters\, but its culinary soul finds its ultimate expression in an iconic dish: Gnocchi alla Sorrentina. This year\, the fifth edition of Sorrento Gnocchi Day transforms this timeless classic into an international event. \n\n\n\nConceived and organized by Dieffe Comunicazione\, with the support of the Municipality of Sant’Agnello and the patronage of Federalberghi Penisola Sorrentina\, the event celebrates the roots of Mediterranean cuisine while opening up to new horizons. The 2026 edition is marked by a historic twinning with Emilia-Romagna\, uniting the tradition of southern potato gnocchi with the art of fresh pasta from the north. \n\n\n\nThe Sorrento Gnocchi Day 2026 ProgramThe event runs from April 20th to 23rd\, but the celebration continues throughout the month of May thanks to the “Gnocchi in Tour” festival. This initiative involves the peninsula’s restaurateurs in a journey of new and original interpretations.
URL:https://sorrentoresidence.com/en/event/sorrento-gnocchi-day/
ATTACH;FMTTYPE=image/jpeg:https://sorrentoresidence.com/wp-content/uploads/2026/04/SorrentoGnocchiDay26-locandina-evento-1.jpg
END:VEVENT
BEGIN:VEVENT
DTSTART;TZID=UTC:20260505T080000
DTEND;TZID=UTC:20260528T170000
DTSTAMP:20260422T220319
CREATED:20260122T060253Z
LAST-MODIFIED:20260122T060442Z
UID:4348-1777968000-1779987600@sorrentoresidence.com
SUMMARY:Tre Golgi Sailing Week 2026
DESCRIPTION:From May 5 to 28\, 2026\, the waters of the Gulf of Naples and Sorrento will host three extraordinary weeks dedicated to international offshore sailing. Tre Golfi Sailing Week 2026 combines the prestigious ORC World Championship\, the historic 71st Tre Golfi Regatta\, and the IMA Maxi European Championship into one grand event. \n\n\n\nBook your holiday at Residence Sorrento at +393386846195 and enjoy your best experiences. \n\n\n\nLook up our website www.sorrentoresidence.com
URL:https://sorrentoresidence.com/en/event/tre-golgi-sailing-week-2026/
ATTACH;FMTTYPE=image/jpeg:https://sorrentoresidence.com/wp-content/uploads/2026/01/575aff69-3904-89cd-33ba-54fdd080eae1-1.jpg
END:VEVENT
END:VCALENDAR