BEGIN:VCALENDAR
VERSION:2.0
PRODID:-//Residence Sorrento - ECPv6.15.20//NONSGML v1.0//EN
CALSCALE:GREGORIAN
METHOD:PUBLISH
X-ORIGINAL-URL:https://sorrentoresidence.com/en/
X-WR-CALDESC:Events for Residence Sorrento
REFRESH-INTERVAL;VALUE=DURATION:PT1H
X-Robots-Tag:noindex
X-PUBLISHED-TTL:PT1H
BEGIN:VTIMEZONE
TZID:UTC
BEGIN:STANDARD
TZOFFSETFROM:+0000
TZOFFSETTO:+0000
TZNAME:UTC
DTSTART:20250101T000000
END:STANDARD
END:VTIMEZONE
BEGIN:VEVENT
DTSTART;TZID=UTC:20260505T080000
DTEND;TZID=UTC:20260528T170000
DTSTAMP:20260422T220607
CREATED:20260122T060253Z
LAST-MODIFIED:20260122T060442Z
UID:4348-1777968000-1779987600@sorrentoresidence.com
SUMMARY:Tre Golgi Sailing Week 2026
DESCRIPTION:From May 5 to 28\, 2026\, the waters of the Gulf of Naples and Sorrento will host three extraordinary weeks dedicated to international offshore sailing. Tre Golfi Sailing Week 2026 combines the prestigious ORC World Championship\, the historic 71st Tre Golfi Regatta\, and the IMA Maxi European Championship into one grand event. \n\n\n\nBook your holiday at Residence Sorrento at +393386846195 and enjoy your best experiences. \n\n\n\nLook up our website www.sorrentoresidence.com
URL:https://sorrentoresidence.com/en/event/tre-golgi-sailing-week-2026/
ATTACH;FMTTYPE=image/jpeg:https://sorrentoresidence.com/wp-content/uploads/2026/01/575aff69-3904-89cd-33ba-54fdd080eae1-1.jpg
END:VEVENT
END:VCALENDAR