BEGIN:VCALENDAR
VERSION:2.0
PRODID:-//Residence Sorrento - ECPv6.15.20//NONSGML v1.0//EN
CALSCALE:GREGORIAN
METHOD:PUBLISH
X-WR-CALNAME:Residence Sorrento
X-ORIGINAL-URL:https://sorrentoresidence.com/en/
X-WR-CALDESC:Events for Residence Sorrento
REFRESH-INTERVAL;VALUE=DURATION:PT1H
X-Robots-Tag:noindex
X-PUBLISHED-TTL:PT1H
BEGIN:VTIMEZONE
TZID:UTC
BEGIN:STANDARD
TZOFFSETFROM:+0000
TZOFFSETTO:+0000
TZNAME:UTC
DTSTART:20230101T000000
END:STANDARD
END:VTIMEZONE
BEGIN:VEVENT
DTSTART;TZID=UTC:20240610T080000
DTEND;TZID=UTC:20240612T170000
DTSTAMP:20260422T215946
CREATED:20240430T051934Z
LAST-MODIFIED:20240501T065554Z
UID:3581-1718006400-1718211600@sorrentoresidence.com
SUMMARY:Festa a Vico 2024
DESCRIPTION:Festa a Vico is back: the dates of the 2024 edition\n\nOver 150 chefs will take turns walking the streets of the city center and Marina di Seiano for three days\n\nThe 2024 event will take place from 10 to 12 June 2024 and includes the participation of over 150 chefs from all over the world and numerous companies in the sector.\n\nFrom the afternoon of June 10th\, the charity event will begin in the streets of the city center. It will close on June 12th with the splendid final event in Marina d'Aequa which will be transformed into a large open-air starred cuisine\, during which national and international chefs will delight an event with a more unique than rare flavour.\n\nWe are waiting for you at Residence Sorrento\n\nBook your room at Residence Sorrento now on 338 684 6195
URL:https://sorrentoresidence.com/en/event/festa-a-vico-2024/
ATTACH;FMTTYPE=image/jpeg:https://sorrentoresidence.com/wp-content/uploads/2024/05/440761802_938437844648031_8761562081727550341_n.jpg
END:VEVENT
BEGIN:VEVENT
DTSTART;TZID=UTC:20240613T080000
DTEND;TZID=UTC:20240713T170000
DTSTAMP:20260422T215946
CREATED:20240520T055617Z
LAST-MODIFIED:20240615T054640Z
UID:3674-1718265600-1720890000@sorrentoresidence.com
SUMMARY:Pompei Theatrum Mundi 2024
DESCRIPTION:
URL:https://sorrentoresidence.com/en/event/pompei-theatrum-mundi-2024/
ATTACH;FMTTYPE=image/jpeg:https://sorrentoresidence.com/wp-content/uploads/2024/06/Pompeii-Theatrum-Mundi-2024.jpg
END:VEVENT
END:VCALENDAR