BEGIN:VCALENDAR
VERSION:2.0
PRODID:-//Residence Sorrento - ECPv6.15.20//NONSGML v1.0//EN
CALSCALE:GREGORIAN
METHOD:PUBLISH
X-WR-CALNAME:Residence Sorrento
X-ORIGINAL-URL:https://sorrentoresidence.com
X-WR-CALDESC:Eventi per Residence Sorrento
REFRESH-INTERVAL;VALUE=DURATION:PT1H
X-Robots-Tag:noindex
X-PUBLISHED-TTL:PT1H
BEGIN:VTIMEZONE
TZID:UTC
BEGIN:STANDARD
TZOFFSETFROM:+0000
TZOFFSETTO:+0000
TZNAME:UTC
DTSTART:20220101T000000
END:STANDARD
END:VTIMEZONE
BEGIN:VEVENT
DTSTART;TZID=UTC:20230916T080000
DTEND;TZID=UTC:20231028T170000
DTSTAMP:20260425T113715
CREATED:20230923T090616Z
LAST-MODIFIED:20230923T090619Z
UID:2809-1694851200-1698512400@sorrentoresidence.com
SUMMARY:ARTE NEI PORTONI E NELLE VETRINE
DESCRIPTION:Dal 16 settembre al 29 ottobre\, tra gli androni di antichi palazzi e nelle vetrine di negozi del centro di Sorrento… \n\n\n\nVentitré artisti della penisola sorrentina sono i protagonisti dell’edizione 2023 della manifestazione “Arte nei portoni e nelle vetrine di Sorrento”\, in programma dal 16 settembre al 29 ottobre\, a Sorrento\, tra gli androni di antichi palazzi e nelle vetrine di negozi situati tra piazza Tasso e piazza Veniero. \n\n\n\nL’esposizione sarà aperta al pubblico dal lunedì al sabato\, dalle ore 18.30 alle ore 21.30 e la domenica dalle ore 10 alle 13 e dalle ore 18.30 alle 21.30. \n\n\n\nIn mostra\, quadri\, sculture\, disegni\, fumetti e varie opere in ferro\, legno\, stoffa e ceramica. \n\n\n\nTi aspettiamo in autunno a Sorrento
URL:https://sorrentoresidence.com/event/arte-nei-portoni-e-nelle-vetrine/
ATTACH;FMTTYPE=image/jpeg:https://sorrentoresidence.com/wp-content/uploads/2023/09/381000357_815787983579685_3139059937953662853_n.jpg
END:VEVENT
END:VCALENDAR