BEGIN:VCALENDAR
VERSION:2.0
PRODID:-//Residence Sorrento - ECPv6.15.20//NONSGML v1.0//EN
CALSCALE:GREGORIAN
METHOD:PUBLISH
X-WR-CALNAME:Residence Sorrento
X-ORIGINAL-URL:https://sorrentoresidence.com
X-WR-CALDESC:Eventi per Residence Sorrento
REFRESH-INTERVAL;VALUE=DURATION:PT1H
X-Robots-Tag:noindex
X-PUBLISHED-TTL:PT1H
BEGIN:VTIMEZONE
TZID:UTC
BEGIN:STANDARD
TZOFFSETFROM:+0000
TZOFFSETTO:+0000
TZNAME:UTC
DTSTART:20240101T000000
END:STANDARD
END:VTIMEZONE
BEGIN:VEVENT
DTSTART;TZID=UTC:20250406T080000
DTEND;TZID=UTC:20250531T170000
DTSTAMP:20260422T042032
CREATED:20250326T045444Z
LAST-MODIFIED:20250326T045447Z
UID:4200-1743926400-1748710800@sorrentoresidence.com
SUMMARY:Escursioni in Famiglia
DESCRIPTION:Con l’inizio della primavera\, incominciano le prima escursioni alla scoperta delle bellezze della Penisola Sorrentina. \n\n\n\nIniziamo con due perle della nostra terra: la Baia di Ieranto e Punta Campanella.
URL:https://sorrentoresidence.com/event/escursioni-in-famiglia/
ATTACH;FMTTYPE=image/jpeg:https://sorrentoresidence.com/wp-content/uploads/2025/03/Screenshot_20250326_052229_Instagram.jpg
END:VEVENT
BEGIN:VEVENT
DTSTART;TZID=UTC:20250527T080000
DTEND;TZID=UTC:20250529T170000
DTSTAMP:20260422T042032
CREATED:20250430T032831Z
LAST-MODIFIED:20250430T032834Z
UID:4209-1748332800-1748538000@sorrentoresidence.com
SUMMARY:PIZZA D'AMARE
DESCRIPTION:Ci siamo….. Pizza d’aMare 2025 – IV Edizione \n\n\n\n 27\, 28 e 29 maggio \n\n\n\n Marina di Meta \n\n\n\nTre giorni imperdibili all’insegna del gusto\, della tradizione e del divertimento nella splendida cornice della Marina di Meta! \n\n\n\nNon vediamo l’ora di accompagnare I nostri ospiti  \n\n\n\n#pizzadamare#meta#pizzadamare2025#penisolasorrentina
URL:https://sorrentoresidence.com/event/pizza-damare-2/
ATTACH;FMTTYPE=image/jpeg:https://sorrentoresidence.com/wp-content/uploads/2025/04/494068161_122229414614234955_592555652134472617_n.jpg
END:VEVENT
END:VCALENDAR