BEGIN:VCALENDAR
VERSION:2.0
PRODID:-//Residence Sorrento - ECPv6.15.20//NONSGML v1.0//EN
CALSCALE:GREGORIAN
METHOD:PUBLISH
X-ORIGINAL-URL:https://sorrentoresidence.com
X-WR-CALDESC:Eventi per Residence Sorrento
REFRESH-INTERVAL;VALUE=DURATION:PT1H
X-Robots-Tag:noindex
X-PUBLISHED-TTL:PT1H
BEGIN:VTIMEZONE
TZID:UTC
BEGIN:STANDARD
TZOFFSETFROM:+0000
TZOFFSETTO:+0000
TZNAME:UTC
DTSTART:20240101T000000
END:STANDARD
END:VTIMEZONE
BEGIN:VEVENT
DTSTART;TZID=UTC:20250801T080000
DTEND;TZID=UTC:20250929T170000
DTSTAMP:20260422T023045
CREATED:20250628T143851Z
LAST-MODIFIED:20250628T143855Z
UID:4251-1754035200-1759165200@sorrentoresidence.com
SUMMARY:Estate Blu
DESCRIPTION:L’Estate Blu 2025 a Piano di Sorrento è un cartellone fitto di appuntamenti che accompagnerà cittadini e visitatori anche nel mese di Agosto\, fino al 27 settembre\, con eventi distribuiti in alcuni dei luoghi più suggestivi della città: Villa Fondi\, Marina di Cassano\, Piazza Cota\, Ripa di Cassano e i pittoreschi borghi limitrofi. \n\n\n\nDal cuore della Penisola Sorrentina arriva l’Estate Blu 2025 – Davanti al Golfo di Surriento\, la ricca rassegna estiva organizzata dall’Amministrazione Comunale di Piano di Sorrento\, con il supporto dell’Assessorato alla Cultura\, Turismo e Spettacolo. 
URL:https://sorrentoresidence.com/event/estate-blu/
ATTACH;FMTTYPE=image/webp:https://sorrentoresidence.com/wp-content/uploads/2025/06/2-1.webp
END:VEVENT
END:VCALENDAR