BEGIN:VCALENDAR
VERSION:2.0
PRODID:-//Residence Sorrento - ECPv6.15.20//NONSGML v1.0//EN
CALSCALE:GREGORIAN
METHOD:PUBLISH
X-WR-CALNAME:Residence Sorrento
X-ORIGINAL-URL:https://sorrentoresidence.com
X-WR-CALDESC:Eventi per Residence Sorrento
REFRESH-INTERVAL;VALUE=DURATION:PT1H
X-Robots-Tag:noindex
X-PUBLISHED-TTL:PT1H
BEGIN:VTIMEZONE
TZID:UTC
BEGIN:STANDARD
TZOFFSETFROM:+0000
TZOFFSETTO:+0000
TZNAME:UTC
DTSTART:20220101T000000
END:STANDARD
END:VTIMEZONE
BEGIN:VEVENT
DTSTART;TZID=UTC:20230803T000000
DTEND;TZID=UTC:20230806T235959
DTSTAMP:20260423T013157
CREATED:20230802T185800Z
LAST-MODIFIED:20230802T185804Z
UID:2490-1691020800-1691366399@sorrentoresidence.com
SUMMARY:CineMare 2023
DESCRIPTION:A Vico Equense la quarta edizione di “Cinemare” \n\n\n\nPotrai vedere i film comodamente steso sul lettino 🥰 \n\n\n\nSpielberg\, Palloro\, Disney…. \n\n\n\nEd anche teatro e musica. \n\n\n\nDal 3 al 6 agosto… \n\n\n\nTutte le sere gli spettatori potranno vedere grandi film d’autore dal lettino della spiaggia\, a pochi passi dal mare. Ad arricchire le serate autorevoli e affascinanti ospiti\, aperti allo scambio con il pubblico. Nella serata finale una incrocio tra cinema e teatro e in chiusura un concerto dance-rock della band locale dei The Lunatics. \n\n\n\nGiovedì 3 agosto “The Fabelmans” di Steven Spielberg\, film semi-biografico del regista americano. Pellicola vincitrice di numerosi premi\, incentrata sulla magia del cinema. Ospite la giornalista cinematografica Chiara Guida\, che svelerà i retroscena di Hollywood grazie alla sua decennale esperienza nella cronaca dei maggiori festival cinematografici del mondo. \n\n\n\nVenerdì 4 agosto dedicato ai bambini con “Luca” il capolavoro d’animazione della Disney-Pixar. \n\n\n\nSabato 5 agosto “Monica” di Andrea Pallaoro. La storia di una transizione di genere\, di una separazione e di una famiglia. Ospiti della serata Loredana Rossi fondatrice della Associazione Trans di Napoli e Rebecca De Pasquale. \n\n\n\nDomenica 6 agosto La “Ferrovia del Sole”\, un raro filmato del dopoguerra ripercorre l’epopea dell’ardita costruzione della Circumvesuviana. Un’opera avveniristica oggi in crisi. Una piece teatrale\, scritta da Marco Cuomo ed interpretata da Salvatore Guadagnuolo\, catapulterà lo spettatore nel bianco e nero delle immagini dell’Istituto Luce. \n\n\n\nConcerto dei The Lunatics in chiusura. \n\n\n\nIl costo del biglietto è di 5 euro. Prenotazione obbligatoria al +39 3517579950\, con messaggio whatsapp. Parcheggio Hotel Oriente lungo la via Cristoforo Colombo per la Marina di Vico.
URL:https://sorrentoresidence.com/event/cinemare-2023/
ATTACH;FMTTYPE=image/jpeg:https://sorrentoresidence.com/wp-content/uploads/2023/08/cinemare-vico-3386785.660x368.jpg
END:VEVENT
BEGIN:VEVENT
DTSTART;TZID=UTC:20230802T210000
DTEND;TZID=UTC:20230802T213000
DTSTAMP:20260423T013157
CREATED:20230801T120402Z
LAST-MODIFIED:20230801T120406Z
UID:2480-1691010000-1691011800@sorrentoresidence.com
SUMMARY:Diego Moreno
DESCRIPTION:Doppio appuntamento con la musica\, il 2 agosto\, alle ore 21\, al chiostro di San Francesco\, a Sorrento. \n\n\n\nProtagonista della serata sarà Diego Moreno con “Canzoni di Buongusto”\, un progetto dedicato all’indimenticabile cantante italiano con ilquale l’artista argentino ha collaborato per oltre 15 anni\, come chitarrista\, arrangiatore e traduttore in spagnolo delle sue canzoni. \n\n\n\nNel corso della serata sarà presentato il video “Mar del Plata Torna a Surriento”\,un brano che è un unicum\, una rivisitazione in chiave tango della celebre “Torna a Surriento” eseguito dall’Orchestra MarDelTango della Città di Mar del Plata\, diretta da Martín Cabello. \n\n\n\nIngresso gratuito !!! \n\n\n\nA pochi passi da Residence Sorrento 🤩 \n\n\n\nPrenota subito 3312290604 338 684 6195
URL:https://sorrentoresidence.com/event/diego-moreno/
ATTACH;FMTTYPE=image/jpeg:https://sorrentoresidence.com/wp-content/uploads/2023/08/6448e79d99f6d.jpeg
END:VEVENT
BEGIN:VEVENT
DTSTART;TZID=UTC:20230731T080000
DTEND;TZID=UTC:20230731T233000
DTSTAMP:20260423T013157
CREATED:20230731T055110Z
LAST-MODIFIED:20230731T080522Z
UID:2456-1690790400-1690846200@sorrentoresidence.com
SUMMARY:Fuochi d'artificio in barca: Festa di Sant'Anna 2023
DESCRIPTION:Uno spettacolo da non perdere. \n\n\n\n31 luglio \n\n\n\nA Marina Grande \n\n\n\nAl borgo dei pescatori. \n\n\n\nVicinissimo a Residence Sorrento  \n\n\n\nI Fuochi a Mare per la festa di Sant’Anna \n\n\n\nIl 31 luglio . \n\n\n\nUna serata bellissima che culminerà con uno spettacolo pirotecnico emozionante
URL:https://sorrentoresidence.com/event/fuochi-dartificio-in-barca-festa-di-santanna-2023/
ATTACH;FMTTYPE=image/jpeg:https://sorrentoresidence.com/wp-content/uploads/2023/07/eventi-speciali-fuochi-pirotecnici.jpg
END:VEVENT
BEGIN:VEVENT
DTSTART;TZID=UTC:20230730T000000
DTEND;TZID=UTC:20230801T235959
DTSTAMP:20260423T013157
CREATED:20230731T060414Z
LAST-MODIFIED:20230731T115641Z
UID:2467-1690675200-1690934399@sorrentoresidence.com
SUMMARY:Festa dei Sapori contadini 2023
DESCRIPTION:Laura Fedele08:01 (0 minuti fa)a me\n\n\n\nIL PARADISO DEI FOODIES  \n\n\n\nLa Penisola Sorrentina è famosa per la sua eccezionale varietà di sapori\,prelibatezze\,piatti caratteristici. \n\n\n\nOggi vi consigliamo la  \n\n\n\nFesta dei Sapori Contadini 2023 a Ticciano di Vico Equense \n\n\n\nSi svolge da domenica 30 luglio a martedì 1 Agosto 2023 nella Borgata Ticciano di Vico Equense. Si tratta di una speciale rassegna enogastronomica. \n\n\n\nUn appuntamento tradizionale che si svolge da ben trent’anni  \n\n\n\nNel corso delle tre serate ci saranno famosi chef \n\n\n\nNel cortile antistante la Chiesa di San Michele Arcangelo degustazioni a cura dello chef del ristorante Don Camillo\, Vincenzo Vanacore. Si potranno assaggiare i bucatini alla ticcianese e la tipica carne di capra alla ticcianese\, il tutto accompagnato con i vini del “Consorzio Tutela Vini Vesuvio. \n\n\n\nNella Piazza di Ticciano ci sarà Gigione Gourmand con i suoi ottimi panini \n\n\n\nFritture del Contadino proposte dalle signore di Ticciano nel centro storico: zeppole\, graffette calde e montanarine \n\n\n\nMusica popolare di Matteo Mauriello \n\n\n\nPresso il Sagrato della Chiesa menù degustazione con primo piatto dello chef Luigi Cannavale dell’Hotel La Pace. Cannelloni croccanti\, patate\, limone e rosmarino\, e la carne di capra alla ticcianese. Degustazione guidata di olio d’oliva Penisola Sorrentina \n\n\n\nI vini in abbinamento: \n\n\n\nCampania Piedirosso IGT\, Baldassarre\, Tenuta La Jala \n\n\n\nRoccamonfina Fiano IGT\, Colle Lepre\, Porto di Mola \n\n\n\nRoccamonfina Rosso IGT\, Camporoccio\, Porto di Mola. \n\n\n\nCaratteristico lo spettacolo teatrale itinerante \n\n\n\nA pochi chilometri da Residence Sorrento
URL:https://sorrentoresidence.com/event/festa-dei-sapori-contadini-2023/
ATTACH;FMTTYPE=image/jpeg:https://sorrentoresidence.com/wp-content/uploads/2023/07/whatsapp_image_2023-07-21_at_08_33_59.jpeg
END:VEVENT
BEGIN:VEVENT
DTSTART;TZID=UTC:20230724T080000
DTEND;TZID=UTC:20230724T170000
DTSTAMP:20260423T013157
CREATED:20230724T055650Z
LAST-MODIFIED:20230724T055653Z
UID:2301-1690185600-1690218000@sorrentoresidence.com
SUMMARY:Mostra dedicata a Andy Warhol
DESCRIPTION:A Villa Fiorentino dal 10 Giugno al 15 Ottobre 2023.. \n\n\n\nLa mostra dedicata ad Andy Warhol dal nome “Life\, Pop & Rock”. \n\n\n\nLa dirompente\, criticata quanto magnetica arte dell’artista di New York arriva a Sorrento in una mostra a dir poco eccezionale! \n\n\n\nLe sale di Villa Fiorentino\, dunque\, in un concept espositivo concepito per ripercorrere la storia artistica e personale del maestro della Pop Art\, mostra l’intero universo di Warhol attraverso l’arte\, la grafica\, le frequentazioni dello star system e quelle dei bassifondi\, la musica\, l’editoria\, la moda\, la fotografia\, il cinema. \n\n\n\nTutto è rappresentato da lserigrafie\, litografie\, disegni\, fotografie\, acetati\, riviste e vinili: oggetti che hanno consacrato Warhol nell’Olimpo degli artisti migliori di sempre.
URL:https://sorrentoresidence.com/event/mostra-dedicata-a-andy-warhol/
ATTACH;FMTTYPE=image/jpeg:https://sorrentoresidence.com/wp-content/uploads/2023/07/IMG_20230724_070947_289.jpg
END:VEVENT
BEGIN:VEVENT
DTSTART;TZID=UTC:20230723T000000
DTEND;TZID=UTC:20230730T000000
DTSTAMP:20260423T013157
CREATED:20230726T055510Z
LAST-MODIFIED:20230729T135550Z
UID:2364-1690070400-1690675200@sorrentoresidence.com
SUMMARY:Sorrento Classica XVI
DESCRIPTION:Il ProgrammaSorrento – Chiostro di S. Francesco– 23 LUGLIO\, ORE 21:15 ROBERTO GIACOBBO – VOCE NARRANTE – INTERNATIONAL STRING ORCHESTRA;– 25 LUGLIO\, ORE 21:15 GIORGIO PASOTTI – VOCE RECITANTE – MAURIZIO MASTRINI – PIANOFORTE SORRENTO CLASSICA ORCHESTRA;– 28 LUGLIO\, ORE 22:30 SMETANA TRIO – THE NATIONAL TRIO OF CZECH REPUBLIC “MIDNIGHT CANDLELIGHT CONCERT“;– 30 LUGLIO\, ORE 21:15 FRIDA BOLLANI MAGONI – PIANO E VOCE;
URL:https://sorrentoresidence.com/event/sorrento-classica-xvi/
END:VEVENT
BEGIN:VEVENT
DTSTART;TZID=UTC:20230325T100000
DTEND;TZID=UTC:20230325T163000
DTSTAMP:20260423T013157
CREATED:20230322T145653Z
LAST-MODIFIED:20230322T152938Z
UID:1631-1679738400-1679761800@sorrentoresidence.com
SUMMARY:Sorrento Walks 2023
DESCRIPTION:Ciao \nSi inaugura il programma di camminate di Sorrento Walks 2023. Week end con le Giornate di Primavera Fai \nQuattro appuntamenti\, il 25 e 26 marzo\, l’1 aprile e il 7 maggio\, dal mare alla collina \nIl programma di camminate Sorrento Walks 2023\, tutte gratuite e adatte ad ogni età\, si apre il 25 marzo\, con l’itinerario numero 13\, uno dei due collegamenti storici fra Massa Lubrense e Sorrento\, che permette di arrivare\, attraverso la bretella 13a\, al sito archeologico della villa del Capo di Sorrento\, in località Bagni della Regina Giovanna. \nDue le partenze\, entrambe da piazza Torquato Tasso\, alle ore 10 e alle 14.30. \nLa villa romana dei Bagni della Regina Giovanna sarà la protagonista anche delle Giornate di Primavera del Fai\, il Fondo per l’ambiente italiano\, che si svolgeranno il 25 il 26 marzo.\nIl sabato l’appuntamento è dalle ore 10 alle 17\, ogni ora\, presso la chiesa parrocchiale del Capo di Sorrento. La domenica\, le visite guidate partiranno alle ore 14 per concludersi alle 17. \nÈ richiesta la prenotazione\, utilizzando il link https://faiprenotazioni.fondoambiente.it/evento/bagni-della-regina-giovanna-44218/ \nSi continua sabato 1 aprile e domenica 7 maggio con Sorrento Walks che propone l’itinerario 22\, cosiddetto dei “Borghi della valle di Sorrento”. \nIl primo aprile\, partenza alle ore 15 dal Birrificio Sorrento\, con degustazione della birra Dallarancia (prenotazione obbligatoria alla mail centrodelriusosorrento@gmail.com)\, mentre il 7 maggio il punto di raduno è alle ore 16 in via Arigliola\, nei pressi del Bambin Gesù\, dove ad accogliere i partecipanti ci saranno i rappresentanti dell’associazione culturale La Selva. \nTi aspettiamo a Residence Sorrento per una vacanza ideale per tutti coloro che amano il trekking e le passeggiate
URL:https://sorrentoresidence.com/event/sorrento-walks-2023/
ATTACH;FMTTYPE=image/jpeg:https://sorrentoresidence.com/wp-content/uploads/2023/03/Sorrento-Walks-Programma-Camminate-2023.jpg
END:VEVENT
BEGIN:VEVENT
DTSTART;TZID=UTC:20230325T100000
DTEND;TZID=UTC:20230325T163000
DTSTAMP:20260423T013157
CREATED:20230322T145653Z
LAST-MODIFIED:20230322T152938Z
UID:1631-1679738400-1679761800@sorrentoresidence.com
SUMMARY:Sorrento Walks 2023
DESCRIPTION:Ciao \nSi inaugura il programma di camminate di Sorrento Walks 2023. Week end con le Giornate di Primavera Fai \nQuattro appuntamenti\, il 25 e 26 marzo\, l’1 aprile e il 7 maggio\, dal mare alla collina \nIl programma di camminate Sorrento Walks 2023\, tutte gratuite e adatte ad ogni età\, si apre il 25 marzo\, con l’itinerario numero 13\, uno dei due collegamenti storici fra Massa Lubrense e Sorrento\, che permette di arrivare\, attraverso la bretella 13a\, al sito archeologico della villa del Capo di Sorrento\, in località Bagni della Regina Giovanna. \nDue le partenze\, entrambe da piazza Torquato Tasso\, alle ore 10 e alle 14.30. \nLa villa romana dei Bagni della Regina Giovanna sarà la protagonista anche delle Giornate di Primavera del Fai\, il Fondo per l’ambiente italiano\, che si svolgeranno il 25 il 26 marzo.\nIl sabato l’appuntamento è dalle ore 10 alle 17\, ogni ora\, presso la chiesa parrocchiale del Capo di Sorrento. La domenica\, le visite guidate partiranno alle ore 14 per concludersi alle 17. \nÈ richiesta la prenotazione\, utilizzando il link https://faiprenotazioni.fondoambiente.it/evento/bagni-della-regina-giovanna-44218/ \nSi continua sabato 1 aprile e domenica 7 maggio con Sorrento Walks che propone l’itinerario 22\, cosiddetto dei “Borghi della valle di Sorrento”. \nIl primo aprile\, partenza alle ore 15 dal Birrificio Sorrento\, con degustazione della birra Dallarancia (prenotazione obbligatoria alla mail centrodelriusosorrento@gmail.com)\, mentre il 7 maggio il punto di raduno è alle ore 16 in via Arigliola\, nei pressi del Bambin Gesù\, dove ad accogliere i partecipanti ci saranno i rappresentanti dell’associazione culturale La Selva. \nTi aspettiamo a Residence Sorrento per una vacanza ideale per tutti coloro che amano il trekking e le passeggiate
URL:https://sorrentoresidence.com/event/sorrento-walks-2023/
ATTACH;FMTTYPE=image/jpeg:https://sorrentoresidence.com/wp-content/uploads/2023/03/Sorrento-Walks-Programma-Camminate-2023.jpg
END:VEVENT
BEGIN:VEVENT
DTSTART;TZID=UTC:20230325T100000
DTEND;TZID=UTC:20230325T163000
DTSTAMP:20260423T013157
CREATED:20230322T145653Z
LAST-MODIFIED:20230322T152938Z
UID:1631-1679738400-1679761800@sorrentoresidence.com
SUMMARY:Sorrento Walks 2023
DESCRIPTION:Ciao \nSi inaugura il programma di camminate di Sorrento Walks 2023. Week end con le Giornate di Primavera Fai \nQuattro appuntamenti\, il 25 e 26 marzo\, l’1 aprile e il 7 maggio\, dal mare alla collina \nIl programma di camminate Sorrento Walks 2023\, tutte gratuite e adatte ad ogni età\, si apre il 25 marzo\, con l’itinerario numero 13\, uno dei due collegamenti storici fra Massa Lubrense e Sorrento\, che permette di arrivare\, attraverso la bretella 13a\, al sito archeologico della villa del Capo di Sorrento\, in località Bagni della Regina Giovanna. \nDue le partenze\, entrambe da piazza Torquato Tasso\, alle ore 10 e alle 14.30. \nLa villa romana dei Bagni della Regina Giovanna sarà la protagonista anche delle Giornate di Primavera del Fai\, il Fondo per l’ambiente italiano\, che si svolgeranno il 25 il 26 marzo.\nIl sabato l’appuntamento è dalle ore 10 alle 17\, ogni ora\, presso la chiesa parrocchiale del Capo di Sorrento. La domenica\, le visite guidate partiranno alle ore 14 per concludersi alle 17. \nÈ richiesta la prenotazione\, utilizzando il link https://faiprenotazioni.fondoambiente.it/evento/bagni-della-regina-giovanna-44218/ \nSi continua sabato 1 aprile e domenica 7 maggio con Sorrento Walks che propone l’itinerario 22\, cosiddetto dei “Borghi della valle di Sorrento”. \nIl primo aprile\, partenza alle ore 15 dal Birrificio Sorrento\, con degustazione della birra Dallarancia (prenotazione obbligatoria alla mail centrodelriusosorrento@gmail.com)\, mentre il 7 maggio il punto di raduno è alle ore 16 in via Arigliola\, nei pressi del Bambin Gesù\, dove ad accogliere i partecipanti ci saranno i rappresentanti dell’associazione culturale La Selva. \nTi aspettiamo a Residence Sorrento per una vacanza ideale per tutti coloro che amano il trekking e le passeggiate
URL:https://sorrentoresidence.com/event/sorrento-walks-2023/
ATTACH;FMTTYPE=image/jpeg:https://sorrentoresidence.com/wp-content/uploads/2023/03/Sorrento-Walks-Programma-Camminate-2023.jpg
END:VEVENT
END:VCALENDAR