BEGIN:VCALENDAR
VERSION:2.0
PRODID:-//Residence Sorrento - ECPv6.15.20//NONSGML v1.0//EN
CALSCALE:GREGORIAN
METHOD:PUBLISH
X-ORIGINAL-URL:https://sorrentoresidence.com
X-WR-CALDESC:Eventi per Residence Sorrento
REFRESH-INTERVAL;VALUE=DURATION:PT1H
X-Robots-Tag:noindex
X-PUBLISHED-TTL:PT1H
BEGIN:VTIMEZONE
TZID:UTC
BEGIN:STANDARD
TZOFFSETFROM:+0000
TZOFFSETTO:+0000
TZNAME:UTC
DTSTART:20240101T000000
END:STANDARD
END:VTIMEZONE
BEGIN:VEVENT
DTSTART;TZID=UTC:20251214T080000
DTEND;TZID=UTC:20260110T170000
DTSTAMP:20260422T111105
CREATED:20251214T083732Z
LAST-MODIFIED:20251214T083736Z
UID:4281-1765699200-1768064400@sorrentoresidence.com
SUMMARY:Natale a Sorrento 2025
DESCRIPTION:Durante tutto il periodo natalizio\, il cuore di Sorrento ospiterà anche il Villaggio di Babbo Natale\, pensato per le famiglie e i più piccoli.Tra spettacoli\, laboratori creativi e punti ristoro con dolci tipici delle feste\, il villaggio sarà un luogo dove respirare la vera atmosfera natalizia. \n\n\n\n \n\n\n\nNel corso delle festività natalizie\, è attesa anche la tradizionale Mostra dei Presepi presso Villa Fiorentino. L’esposizione\, che negli anni precedenti ha raccolto decine di presepi artigianali realizzati da maestri locali e scuole\, aprirà a partire dal 1 dicembre e rimanere attiva fino al 18 gennaio. \n\n\n\nLe sale storiche e la splendida terrazza di Villa Fiorentino\, affacciate sul mare della Penisola Sorrentina\, offriranno la cornice perfetta per scoprire l’arte del presepe: dai caratteristici pastori napoletani alle interpretazioni contemporanee\, in un percorso narrativo che invita a contemplare la natività e la tradizione. \n\n\n\nL’accesso alla mostra sarà gratuito.  \n\n\n\nTra gli appuntamenti del Natale a Sorrento spicca “Araprite ’e purtune\, ce sta O’ presepio”\, un presepe vivente unico nel suo genere\, ambientato negli antichi portoni del centro storico. Dal 28 al 30 dicembre 2025\, dalle 17.30 alle 20.30. \n\n\n\nIl percorso\, che andrà da Piazza Tasso fino ai vicoletti storici di Sorrento\, accompagnerà i visitatori alla scoperta della tradizione presepiale napoletana del Settecento\, reinterpretata in chiave scenica e diffusa.
URL:https://sorrentoresidence.com/event/natale-a-sorrento-2025/
ATTACH;FMTTYPE=image/webp:https://sorrentoresidence.com/wp-content/uploads/2025/12/Albero-Natale-Sorrento.webp
END:VEVENT
BEGIN:VEVENT
DTSTART;TZID=UTC:20251220T080000
DTEND;TZID=UTC:20251228T170000
DTSTAMP:20260422T111105
CREATED:20251216T054115Z
LAST-MODIFIED:20251216T054119Z
UID:4297-1766217600-1766941200@sorrentoresidence.com
SUMMARY:Natale nella Terra delle Sirene
DESCRIPTION:Un progetto che intreccia mare\, storia\, tradizioni e prodotti della terra\, trasformando le festività in un’esperienza di scoperta autentica tra Meta e la Penisola Sorrentina. Escursioni guidate\, racconti identitari e paesaggi senza tempo conducono i partecipanti lungo borghi antichi\, chiese storiche\, cantieri navali\, siti archeologici e sentieri naturalistici\, restituendo valore e memoria ai luoghi.
URL:https://sorrentoresidence.com/event/natale-nella-terra-delle-sirene/
ATTACH;FMTTYPE=image/jpeg:https://sorrentoresidence.com/wp-content/uploads/2025/12/589909879_18070919270616182_8077129344254451663_n.jpg
END:VEVENT
BEGIN:VEVENT
DTSTART;TZID=UTC:20251231T080000
DTEND;TZID=UTC:20251231T170000
DTSTAMP:20260422T111105
CREATED:20251217T052521Z
LAST-MODIFIED:20251217T052525Z
UID:4327-1767168000-1767200400@sorrentoresidence.com
SUMMARY:Presepe Solidale
DESCRIPTION:Presepe vivente a Sorrento  \n\n\n\n \n\n\n\nIl nostro ‘O Presepio si infila nei vicoli di Sorrento e nei suoi portoni\, mostrandone splendidi dettagli e angoli intrisi di storia. \n\n\n\nBellezza architettonica\, folclore\, tradizione e fede si incontrano\, per farvi vivere un’esperienza unica che siamo sicuri non dimenticherete.
URL:https://sorrentoresidence.com/event/presepe-solidale/
ATTACH;FMTTYPE=image/jpeg:https://sorrentoresidence.com/wp-content/uploads/2025/12/587038461_1269618945186339_3838518220537197543_n.jpg
END:VEVENT
BEGIN:VEVENT
DTSTART;TZID=UTC:20260305T080000
DTEND;TZID=UTC:20260315T170000
DTSTAMP:20260422T111105
CREATED:20260305T050826Z
LAST-MODIFIED:20260305T050828Z
UID:4368-1772697600-1773594000@sorrentoresidence.com
SUMMARY:Resistenza Creative
DESCRIPTION:La Fondazione Sorrento presenta {R}Esistenze Creative\, mostra collettiva di pittura\, scultura e fotografia\, in programma a Villa Fiorentino dal 20 febbraio al 15 marzo 2026. \n\n\n\nL’esposizione propone un percorso artistico articolato\, che mette al centro la creatività come forma di resistenza culturale e contemporanea.
URL:https://sorrentoresidence.com/event/resistenza-creative/
ATTACH;FMTTYPE=image/jpeg:https://sorrentoresidence.com/wp-content/uploads/2026/03/647168462_1335755051906968_195279443436619262_n.jpg
END:VEVENT
BEGIN:VEVENT
DTSTART;TZID=UTC:20260420T080000
DTEND;TZID=UTC:20260423T170000
DTSTAMP:20260422T111105
CREATED:20260417T034210Z
LAST-MODIFIED:20260417T034212Z
UID:4384-1776672000-1776963600@sorrentoresidence.com
SUMMARY:Sorrento Gnocchi Day
DESCRIPTION:La Penisola Sorrentina è celebre per i suoi limoni\, i panorami mozzafiato e le acque cristalline\, ma la sua anima culinaria trova la massima espressione in un piatto iconico: gli Gnocchi alla Sorrentina. Quest’anno\, la quinta edizione del Sorrento Gnocchi Day trasforma questo classico intramontabile in una kermesse di respiro internazionale \n\n\n\nL’evento si snoda dal 20 al 23 aprile\, ma la festa continua per tutto il mese di maggio grazie alla rassegna “Gnocchi in Tour”. Questa iniziativa coinvolge i ristoratori della penisola in un itinerario di interpretazioni inedite e originali.
URL:https://sorrentoresidence.com/event/sorrento-gnocchi-day/
ATTACH;FMTTYPE=image/jpeg:https://sorrentoresidence.com/wp-content/uploads/2026/04/SorrentoGnocchiDay26-locandina-evento-1.jpg
END:VEVENT
BEGIN:VEVENT
DTSTART;TZID=UTC:20260505T080000
DTEND;TZID=UTC:20260528T170000
DTSTAMP:20260422T111105
CREATED:20260122T060253Z
LAST-MODIFIED:20260122T060255Z
UID:4344-1777968000-1779987600@sorrentoresidence.com
SUMMARY:TRE GOLFI SAILING WEEK 2026
DESCRIPTION:Dal 5 al 28 maggio 2026\, le acque del Golfo di Napoli e Sorrento ospiteranno tre settimane straordinarie dedicate alla vela d’altura internazionale. La Tre Golfi Sailing Week 2026 unisce in un unico grande evento il prestigioso Campionato del Mondo ORC\, la storica 71ª Regata dei Tre Golfi e il Campionato Europeo IMA Maxi. \n\n\n\n \n\n\n\nPrenota la tua vacanza a Residence Sorrento al +393386846195 e goditi le best experiences. Visita il nostro sito al www.sorrentoresidence.com
URL:https://sorrentoresidence.com/event/tre-golfi-sailing-week-2026/
ATTACH;FMTTYPE=image/jpeg:https://sorrentoresidence.com/wp-content/uploads/2026/01/575aff69-3904-89cd-33ba-54fdd080eae1.jpg
END:VEVENT
END:VCALENDAR