BEGIN:VCALENDAR
VERSION:2.0
PRODID:-//Residence Sorrento - ECPv6.15.20//NONSGML v1.0//EN
CALSCALE:GREGORIAN
METHOD:PUBLISH
X-WR-CALNAME:Residence Sorrento
X-ORIGINAL-URL:https://sorrentoresidence.com
X-WR-CALDESC:Eventi per Residence Sorrento
REFRESH-INTERVAL;VALUE=DURATION:PT1H
X-Robots-Tag:noindex
X-PUBLISHED-TTL:PT1H
BEGIN:VTIMEZONE
TZID:UTC
BEGIN:STANDARD
TZOFFSETFROM:+0000
TZOFFSETTO:+0000
TZNAME:UTC
DTSTART:20230101T000000
END:STANDARD
END:VTIMEZONE
BEGIN:VEVENT
DTSTART;TZID=UTC:20241201T080000
DTEND;TZID=UTC:20241220T170000
DTSTAMP:20260422T220603
CREATED:20241201T094617Z
LAST-MODIFIED:20241201T094626Z
UID:3989-1733040000-1734714000@sorrentoresidence.com
SUMMARY:Natale'a tra i borghi e le marine
DESCRIPTION:Al via “Natalèa tra i borghi e le marine – tra luci e onde”\, la rassegna di teatro e musica\, diretta da Marco Palmieri. \n\n\n\nSi parte questa sera\, alle ore 19.15 nella chiesa di Santa Lucia con “Ninna Nanna a Maria” con Francesca Maresca e Marco Palmieri\, per proseguire il 5 dicembre alle ore 19\, nella chiesa di Sant’Anna a Marina Grande\, con Gerardo Amarante e Spaccapaese in “Cantamm pe’ te”. Ancora\, il 19 dicembre alle ore 18.30 nella chiesa di Sant’Attanasio Vescovo di Priora\, con Gaetano Stella e Musicastoria in “Da Napule a Betlemme”\, e venerdì 20 alle ore 20 nella Chiesa Santa Maria di Casarlano\, con Fiorenza Calogero in “Il Cavaliere di Mamma Schiavona”. \n\n\n\nIngresso libero fino ad esaurimento posti.
URL:https://sorrentoresidence.com/event/natalea-tra-i-borghi-e-le-marine/
ATTACH;FMTTYPE=image/jpeg:https://sorrentoresidence.com/wp-content/uploads/2024/12/FB_IMG_1733046175127.jpg
END:VEVENT
BEGIN:VEVENT
DTSTART;TZID=UTC:20241129T080000
DTEND;TZID=UTC:20241201T170000
DTSTAMP:20260422T220603
CREATED:20241102T095945Z
LAST-MODIFIED:20241102T095948Z
UID:3933-1732867200-1733072400@sorrentoresidence.com
SUMMARY:Black friday e Shopping sotto l'albero
DESCRIPTION:“Shopping sotto l’albero” è il titolo della manifestazione nell’ambito del cartellone della rassegna M’illumino d’inverno\, e che darà l’opportunità a cittadini e visitatori di usufruire di agevolazioni e promozioni nei negozi che aderiscono all’iniziativa. 
URL:https://sorrentoresidence.com/event/black-friday-e-shopping-sotto-lalbero/
ATTACH;FMTTYPE=image/jpeg:https://sorrentoresidence.com/wp-content/uploads/2024/11/mercatini-natale-napoli.cityrumors.it-20231113.jpg
END:VEVENT
BEGIN:VEVENT
DTSTART;TZID=UTC:20241124T080000
DTEND;TZID=UTC:20241226T170000
DTSTAMP:20260422T220603
CREATED:20241105T050539Z
LAST-MODIFIED:20241105T050542Z
UID:3953-1732435200-1735232400@sorrentoresidence.com
SUMMARY:Il Borgo di Babbo Natale
DESCRIPTION:Un magnifico evento per grandi e piccini tra i i vicoletti di Meta di Sorrento. Un caratteristico villaggio di Babbo Natale alla scoperta dei borghi sorrentini.
URL:https://sorrentoresidence.com/event/il-borgo-di-babbo-natale/
ATTACH;FMTTYPE=image/jpeg:https://sorrentoresidence.com/wp-content/uploads/2024/11/465460837_1060430409115440_2291918311895256969_n.jpg
END:VEVENT
BEGIN:VEVENT
DTSTART;TZID=UTC:20241123T080000
DTEND;TZID=UTC:20241123T170000
DTSTAMP:20260422T220603
CREATED:20241102T095538Z
LAST-MODIFIED:20241102T095546Z
UID:3925-1732348800-1732381200@sorrentoresidence.com
SUMMARY:Accensione Albero di Natale e luminarie
DESCRIPTION:Finalmente e’ stato stabilito il giorno dell’attesissima accensione dell’albero di Natale e delle luminarie sorrentine: 23 novembre alle 18.00 in Piazza Tasso.
URL:https://sorrentoresidence.com/event/accensione-albero-di-natale-e-luminarie/
ATTACH;FMTTYPE=image/jpeg:https://sorrentoresidence.com/wp-content/uploads/2024/11/hq720.jpg
END:VEVENT
BEGIN:VEVENT
DTSTART;TZID=UTC:20241110T080000
DTEND;TZID=UTC:20241110T170000
DTSTAMP:20260422T220603
CREATED:20241105T050224Z
LAST-MODIFIED:20241105T050232Z
UID:3943-1731225600-1731258000@sorrentoresidence.com
SUMMARY:Sorrento Walks
DESCRIPTION:Quattro appuntamenti per ammirare i luoghi più suggestivi di Sorrento 🚶‍➡️
URL:https://sorrentoresidence.com/event/sorrento-walks/
ATTACH;FMTTYPE=image/jpeg:https://sorrentoresidence.com/wp-content/uploads/2024/11/FB_IMG_1730781321009.jpg
END:VEVENT
BEGIN:VEVENT
DTSTART;TZID=UTC:20241109T080000
DTEND;TZID=UTC:20250331T170000
DTSTAMP:20260422T220603
CREATED:20241109T075224Z
LAST-MODIFIED:20241109T075232Z
UID:3961-1731139200-1743440400@sorrentoresidence.com
SUMMARY:Le 13 Porte
DESCRIPTION:Le 13 Porte” è il nome dato al progetto escursionistico prendendo spunto dalle 13 parrocchie disseminate sul territorio. La porta simboleggia l’ingresso spirituale in ognuna delle comunità\, ma è anche nel nostro intento un’indicazione geografica\, che conduce ai caratteristici borghi e alle suggestive chiese ivi presenti intorno alle quali si sono costituite fin dall’antichità e in cui si rinvengono piccoli gioielli e tracce di epoche passate \n\n\n\nUn programma di magnifiche passeggiate nei posti più suggeriti di Vico Equense.
URL:https://sorrentoresidence.com/event/le-13-porte/
ATTACH;FMTTYPE=image/jpeg:https://sorrentoresidence.com/wp-content/uploads/2024/11/466383564_122186969294234955_655203472915534213_n.jpg
END:VEVENT
BEGIN:VEVENT
DTSTART;TZID=UTC:20241103T080000
DTEND;TZID=UTC:20241103T170000
DTSTAMP:20260422T220603
CREATED:20241031T045217Z
LAST-MODIFIED:20241031T045225Z
UID:3915-1730620800-1730653200@sorrentoresidence.com
SUMMARY:Apertura speciale Villa Romana
DESCRIPTION:Apertura speciale e gratuita alla splendida Villa Romana a Positano
URL:https://sorrentoresidence.com/event/apertura-speciale-villa-romana/
ATTACH;FMTTYPE=image/jpeg:https://sorrentoresidence.com/wp-content/uploads/2024/10/Screenshot_20241031_053535_Instagram.jpg
END:VEVENT
BEGIN:VEVENT
DTSTART;TZID=UTC:20241031T080000
DTEND;TZID=UTC:20241031T170000
DTSTAMP:20260422T220603
CREATED:20241026T082942Z
LAST-MODIFIED:20241026T082949Z
UID:3906-1730361600-1730394000@sorrentoresidence.com
SUMMARY:Believer
DESCRIPTION:Giovedi 31 ottobre  alle ore 21.00 al Teatro Tasso andra’ in scena Believer\, magnifico spettacolo di Sabrina di Monda.
URL:https://sorrentoresidence.com/event/believer/
ATTACH;FMTTYPE=image/jpeg:https://sorrentoresidence.com/wp-content/uploads/2024/10/464303210_2865921153563785_5418743190121548122_n.jpg
END:VEVENT
BEGIN:VEVENT
DTSTART;TZID=UTC:20241013T080000
DTEND;TZID=UTC:20241026T170000
DTSTAMP:20260422T220603
CREATED:20241009T042030Z
LAST-MODIFIED:20241009T042036Z
UID:3898-1728806400-1729962000@sorrentoresidence.com
SUMMARY:SORRENTO WALKS 2024
DESCRIPTION:Quattro appuntamenti per ammirare alcuni dei luoghi piu’ suggestivi di Sorrento.
URL:https://sorrentoresidence.com/event/sorrento-walks-2024-2/
ATTACH;FMTTYPE=image/jpeg:https://sorrentoresidence.com/wp-content/uploads/2024/10/Screenshot_20241009_060505.jpg
END:VEVENT
BEGIN:VEVENT
DTSTART;TZID=UTC:20241006T080000
DTEND;TZID=UTC:20241231T170000
DTSTAMP:20260422T220603
CREATED:20241005T093453Z
LAST-MODIFIED:20241005T093501Z
UID:3890-1728201600-1735664400@sorrentoresidence.com
SUMMARY:Domenica al Museo
DESCRIPTION:Domenica 6 ottobre torna l’iniziativa #DomenicaAlMuseo\, un’opportunità imperdibile per i nostri ospiti di esplorare le meraviglie della nostra provincia con ingresso gratuito nei musei e nei parchi archeologici statali. \n\n\n\nPenisola Sorrentina: \n\n\n\nL’unico museo statale della penisola sorrentina è un vero e proprio gioiello da promuovere: il Museo Archeologico Territoriale della Penisola Sorrentina “Georges Vallet” di Villa Fondi\, situato a pochi passi da Meta! Questo affascinante museo è ospitato nelle splendide sale della Villa Fondi de Sangro\, una delle residenze patrizie che caratterizzano l’architettura della prima metà del XX secolo. \n\n\n\nIl museo è nato dall’esigenza di raccogliere e documentare i risultati degli scavi effettuati sul territorio\, con l’intento di ricostruire le varie fasi di popolamento e trasformazione della penisola sorrentina. \n\n\n\nNapoli: \n\n\n\n– Castel Sant’Elmo e Museo del Novecento \n\n\n\n– Museo Archeologico Nazionale \n\n\n\n– Palazzo Reale \n\n\n\nCapri: \n\n\n\n– Certosa di San Giacomo e Museo Archeologico Nazionale \n\n\n\nPompei e Ercolano: \n\n\n\n– Area Archeologica di Pompei \n\n\n\n– Parco Archeologico di Ercolano \n\n\n\nE tanti altri luoghi incantevoli che aspettano solo di essere scoperti! Per un elenco completo delle aperture e dei dettagli\, visitate: Ministero della Cultura https://cultura.gov.it/domenicalmuseo.
URL:https://sorrentoresidence.com/event/domenica-al-museo/
ATTACH;FMTTYPE=image/jpeg:https://sorrentoresidence.com/wp-content/uploads/2024/10/462005105_122179421834234955_6832581742816411254_n.jpg
END:VEVENT
BEGIN:VEVENT
DTSTART;TZID=UTC:20241005T080000
DTEND;TZID=UTC:20241007T170000
DTSTAMP:20260422T220603
CREATED:20240929T160411Z
LAST-MODIFIED:20240929T160414Z
UID:3857-1728115200-1728320400@sorrentoresidence.com
SUMMARY:Sagra dell' Uva 2024
DESCRIPTION:Dal 5 al 7 Ottobre 2024 Prioria\, frazione di Sorrento\, ospiterà la tradizionale sagra dell’Uva\, in coincidenza con la Festa della Madonna del Rosario. \n\n\n\nTre giorni dedicati alla vendemmia\, alla musica\, alla tradizione\, alla gastronomia e al divertimento.
URL:https://sorrentoresidence.com/event/sagra-dell-uva-2024/
ATTACH;FMTTYPE=image/jpeg:https://sorrentoresidence.com/wp-content/uploads/2024/09/FB_IMG_1727620745664.jpg
END:VEVENT
BEGIN:VEVENT
DTSTART;TZID=UTC:20241003T080000
DTEND;TZID=UTC:20241006T170000
DTSTAMP:20260422T220603
CREATED:20241003T053443Z
LAST-MODIFIED:20241003T053448Z
UID:3882-1727942400-1728234000@sorrentoresidence.com
SUMMARY:Trofeo Regina Giovanna
DESCRIPTION:Dal 4 al 6 ottobre\, lo specchio d’acqua antistante Marina Grande\, a Sorrento\, ospita la quarta edizione del Trofeo Regina Giovanna.Dedicata alle imbarcazioni a vela latina tradizionali in legno\, nel ricordo dell’antica tradizione marinara locale\, commerciale e peschereccia\, la manifestazione è patrocinata dal Comune di Sorrento ed organizzata dal Cantiere del legno Aprea\, dalla sezione di Sorrento della Lega Navale Italiana e dal Circolo Alimuri di Meta. “Il raduno nasce per dare continuità alla tradizione della vela latina nelle acque di Sorrento – spiega il presidente del consiglio comunale\, Luigi Di Prisco – L’iniziativa si svolge nell’ambito del Circuito delle Sirene del Sud Italia\, che vede tappe a Salerno\, Pisciotta\, Reggio Calabria\, Scilla\, Palinuro e Vico Equense. Un’occasione per tutti gli appassionati di vela e di mare\, per ammirare queste magnifiche imbarcazioni”.Sono quindici quelle che gareggeranno nell’ambito della tre giorni del Trofeo Regina Giovanna. Il programma prevede anche momenti conviviali e la premiazione finale\, nel pomeriggio del 6 ottobre. 
URL:https://sorrentoresidence.com/event/trofeo-regina-giovanna-2/
ATTACH;FMTTYPE=image/jpeg:https://sorrentoresidence.com/wp-content/uploads/2024/10/FB_IMG_1727933290325.jpg
END:VEVENT
BEGIN:VEVENT
DTSTART;TZID=UTC:20240927T080000
DTEND;TZID=UTC:20240927T170000
DTSTAMP:20260422T220603
CREATED:20240922T160629Z
LAST-MODIFIED:20240922T160632Z
UID:3847-1727424000-1727456400@sorrentoresidence.com
SUMMARY:Cent'Anni in una Notte
DESCRIPTION:Gran Ballo in maschera al Museo Correale di Sorrento
URL:https://sorrentoresidence.com/event/centanni-in-una-notte/
ATTACH;FMTTYPE=image/jpeg:https://sorrentoresidence.com/wp-content/uploads/2024/09/461128601_17938487360875445_8710262547016127798_n.jpg
END:VEVENT
BEGIN:VEVENT
DTSTART;TZID=UTC:20240912T080000
DTEND;TZID=UTC:20240915T170000
DTSTAMP:20260422T220603
CREATED:20240907T065005Z
LAST-MODIFIED:20240907T065013Z
UID:3822-1726128000-1726419600@sorrentoresidence.com
SUMMARY:Mostra di Modellismo Navale
DESCRIPTION:Imperdibile evento di modellismo Navale presso la Sala Consiliare del Comune di Meta
URL:https://sorrentoresidence.com/event/mostra-di-modellismo-navale/
ATTACH;FMTTYPE=image/jpeg:https://sorrentoresidence.com/wp-content/uploads/2024/09/Screenshot_20240907_084701.jpg
END:VEVENT
BEGIN:VEVENT
DTSTART;TZID=UTC:20240910T080000
DTEND;TZID=UTC:20240912T170000
DTSTAMP:20260422T220603
CREATED:20240823T040956Z
LAST-MODIFIED:20240823T041002Z
UID:3805-1725955200-1726160400@sorrentoresidence.com
SUMMARY:Meta Mare in festa 2024
DESCRIPTION:L’estate sta finendo? Non per Meta che inaugura l’attesissima settima edizione di Meta Mare in Festa 2024. Festa volta a celebrare la Madonna del Lauro\, all’insegna di sapori\, tradizione e musica.
URL:https://sorrentoresidence.com/event/meta-mare-in-festa-2024/
ATTACH;FMTTYPE=image/jpeg:https://sorrentoresidence.com/wp-content/uploads/2024/08/Screenshot_20240823_060444.jpg
END:VEVENT
BEGIN:VEVENT
DTSTART;TZID=UTC:20240908T080000
DTEND;TZID=UTC:20240927T170000
DTSTAMP:20260422T220603
CREATED:20240907T150231Z
LAST-MODIFIED:20240907T150235Z
UID:3831-1725782400-1727456400@sorrentoresidence.com
SUMMARY:Tarantella Sorrentina
DESCRIPTION:Quattro appuntamento per riscoprire il fascino della tarantella sorrentina\, delle musiche tradizionali e dei tipici strumenti musicali.
URL:https://sorrentoresidence.com/event/tarantella-sorrentina/
ATTACH;FMTTYPE=image/webp:https://sorrentoresidence.com/wp-content/uploads/2024/09/Eventi-estate-2021-Sorrento-spettacolo-di-tarantella-Sorrento-Folk.webp
END:VEVENT
BEGIN:VEVENT
DTSTART;TZID=UTC:20240908T080000
DTEND;TZID=UTC:20240908T170000
DTSTAMP:20260422T220603
CREATED:20240830T045315Z
LAST-MODIFIED:20240830T045323Z
UID:3813-1725782400-1725814800@sorrentoresidence.com
SUMMARY:Vibraemozioni
DESCRIPTION:Meditazione\, yoga\, musica e natura. Sono gli ingredienti dei progetti “Un mare di emozioni” e “Vibraemozioni”\, promossi dal Comune di Sorrento ed organizzati da Mahadevi Group\, in collaborazione con Sorrento Walks e Penisolaverde. \n\n\n\nAppuntamento gratuito\, in altrettante suggestive location di Sorrento\, ideato e guidato da Ines Ercolano operatore olistico Siaf\, insegnante di yoga Csen e gong master\, con la partecipazione della musicista Camilla Mancuso. \n\n\n\n8 settembre\, alle ore 19.30\, al Bastione di Parsano  il “Concerto meditativo per l’Amore e la Pace”\, che propone particolari suoni vibranti e armonici\, stimolando un processo di armonizzazione e riequilibrio su tutti i corpi energetici e fisici\, mediato dall’attivazione di determinate aree del cervello.
URL:https://sorrentoresidence.com/event/vibraemozioni/
ATTACH;FMTTYPE=image/jpeg:https://sorrentoresidence.com/wp-content/uploads/2024/08/457159734_122169923396234955_1757116094891071020_n.jpg
END:VEVENT
BEGIN:VEVENT
DTSTART;TZID=UTC:20240831T080000
DTEND;TZID=UTC:20240831T170000
DTSTAMP:20260422T220603
CREATED:20240715T052730Z
LAST-MODIFIED:20240715T052734Z
UID:3719-1725091200-1725123600@sorrentoresidence.com
SUMMARY:Lo spettacolo dell'alba
DESCRIPTION:Lo spettacolo dell’alba – Invenzioni a tre voci\, è l’appuntamento da non perdere del 29 giugno al Parco Archeologico di Ercolano con repliche il 20 luglio e il 31 agosto\, una produzione originale CoopCulture\, che fino ad agosto animerà alcune delle meraviglie storiche\, artistiche ed archeologiche d’Italia. Ercolano è il primo Parco archeologico a diventare scenario per un viaggio tra archeologia e sonorità\, in un crescendo di emozioni che unisce monumenti\, natura e territorio presentando alle prime luci del mattino il luogo in maniera del tutto inedita. La musica diventerà il filo conduttore di un’esperienza suggestiva\, declinata in una narrazione che attraversa epoche e culture\, raccontando storie di grandezza e drammaticità e fondendosi con il grandioso paesaggio archeologico. Il programma musicale abbraccia un vasto repertorio\, dalle musiche di Roberto De Simone\, Benjamin Britten. W.A. Mozart\, Gabriel Fauré\, Jansug Kakhidze e brani della tradizione popolare campana\, sarda\, portoghese\, interpretate dalla voce di Marina Bruno\, Enzo Pietropaoli al contrabbasso e Daniele Sepe al sassofono.
URL:https://sorrentoresidence.com/event/lo-spettacolo-dellalba/
ATTACH;FMTTYPE=image/png:https://sorrentoresidence.com/wp-content/uploads/2024/07/lo-spettacolo-dellalba-ercolano-1024x751-1.png
END:VEVENT
BEGIN:VEVENT
DTSTART;TZID=UTC:20240825T080000
DTEND;TZID=UTC:20240827T170000
DTSTAMP:20260422T220603
CREATED:20240818T141352Z
LAST-MODIFIED:20240818T141400Z
UID:3789-1724572800-1724778000@sorrentoresidence.com
SUMMARY:Sagra della Patata
DESCRIPTION:
URL:https://sorrentoresidence.com/event/sagra-della-patata/
ATTACH;FMTTYPE=image/jpeg:https://sorrentoresidence.com/wp-content/uploads/2024/08/452448708_908653921305140_3766851546400647157_n.jpg
END:VEVENT
BEGIN:VEVENT
DTSTART;TZID=UTC:20240818T080000
DTEND;TZID=UTC:20240820T170000
DTSTAMP:20260422T220603
CREATED:20240818T141638Z
LAST-MODIFIED:20240818T141642Z
UID:3797-1723968000-1724173200@sorrentoresidence.com
SUMMARY:Polpette in festa
DESCRIPTION:
URL:https://sorrentoresidence.com/event/polpette-in-festa/
ATTACH;FMTTYPE=image/webp:https://sorrentoresidence.com/wp-content/uploads/2024/08/polpette-in-festa-18-19-e-20-agosto-2024-santa-maria-del-castello-vico-equense-about-sorrento.webp
END:VEVENT
BEGIN:VEVENT
DTSTART;TZID=UTC:20240815T080000
DTEND;TZID=UTC:20240815T170000
DTSTAMP:20260422T220603
CREATED:20240812T134259Z
LAST-MODIFIED:20240812T134306Z
UID:3773-1723708800-1723741200@sorrentoresidence.com
SUMMARY:Fuochi di Ferragosto a Sorrento
DESCRIPTION:
URL:https://sorrentoresidence.com/event/fuochi-di-ferragosto-a-sorrento/
ATTACH;FMTTYPE=image/jpeg:https://sorrentoresidence.com/wp-content/uploads/2024/08/Screenshot_20240812_135009.jpg
END:VEVENT
BEGIN:VEVENT
DTSTART;TZID=UTC:20240813T080000
DTEND;TZID=UTC:20240813T170000
DTSTAMP:20260422T220603
CREATED:20240812T134739Z
LAST-MODIFIED:20240812T134742Z
UID:3781-1723536000-1723568400@sorrentoresidence.com
SUMMARY:T'Anguriata Rossa
DESCRIPTION: Martedì 13 Agosto 2024   \n\n\n\n Orario: Ore 21:00   \n\n\n\n Dove: Piazza Casale\, Meta   \n\n\n\n( a 300 metri da Villa Harmony) \n\n\n\n Special Guest: Pasquale Palma e l’incantevole energia dei WHY&NOT!  \n\n\n\nLa serata sarà ricca di divertimento e allegria per tutti! \n\n\n\n Inizio Festeggiamenti: Dalle ore 20:00\, non perdere l’occasione di ammirare le meravigliose sculture d’anguria e di partecipare al tradizionale Gioco dell’Anguria \n\n\n\n Spettacolo di Ballo: Assisti all’esibizione del talentuoso gruppo US ACLI “’CASSIOPEA”\, diretto da Eliana\, e lasciati trasportare dalla musica! \n\n\n\n Lotteria della T’Angurriata: Non dimenticare di partecipare per vincere fantastici premi\, tra cui: \n\n\n\n BUONO VIAGGIO  \n\n\n\n MONOPATTINO ELETTRICO  \n\n\n\n SMARTPHONE  \n\n\n\n BIGLIETTO PER MIRABILANDIA (2gg per 2 adulti + 1 bambino)  \n\n\n\n WEEKEND x 2 alle Terme di Saturnia  \n\n\n\n… e tanti altri premi fantastici! \n\n\n\n Anguria gratuita per tutti! Non puoi mancare!
URL:https://sorrentoresidence.com/event/tanguriata-rossa/
ATTACH;FMTTYPE=image/jpeg:https://sorrentoresidence.com/wp-content/uploads/2024/08/IMG-20240812-WA0009.jpg
END:VEVENT
BEGIN:VEVENT
DTSTART;TZID=UTC:20240805T080000
DTEND;TZID=UTC:20241115T170000
DTSTAMP:20260422T220603
CREATED:20240730T055145Z
LAST-MODIFIED:20240730T055154Z
UID:3757-1722844800-1731690000@sorrentoresidence.com
SUMMARY:Mostra Antonio Ligabue
DESCRIPTION:Una mostra straordinaria che unisce un artista internazionale come Antonio Ligabue e Sorrento. Dal 5 agosto al 16 novembre 2024 le sale di Villa Fiorentino accolgono l’esposizione che si presenta come una antologica che permette al pubblico di confrontarsi con opere realizzate durante tutta la vita creativa di un artista ribelle\, ma geniale\, inquieto e visionario\, che è ormai un vero e proprio mito dell’arte del Novecento. \n\n\n\nLa mostra celebra un grande espressionista\, uno dei protagonisti dell’arte italiana del XX secolo. \n\n\n\nLa mostra presenta 67 opere: 52 dei suoi celebri oli\, tra cui capolavori come Testa di tigre (1956)\, Leopardo sulla roccia (1960)\, Vedova nera (1955)\, Aquila con volpe (1944)\, Gatto selvatico con nibbio (1960)\, Autoritratto (1959). Straordinario il Ritratto di Elba (1936)\, il primo quadro di Ligabue dedicato a riprendere altri\, in questo caso una bambina morta per consolare la madre. \n\n\n\n A Sorrento\, in mostra\, sono presenti 15 delle sue intense sculture in bronzo realizzate dall’originale in argilla del Po che l’artista masticava a lungo per renderla duttile. \n\n\n\nDal 5 agosto al 30 settembre \n\n\n\nLunedì-venerdì 10-13 / 17-20 \n\n\n\nSabato\, domenica e festivi 10-13 / 17-21 \n\n\n\nDal 1° ottobre al 16 novembre \n\n\n\nLunedì-venerdì 10-13 / 16-19 \n\n\n\nSabato\, domenica e festivi 10-13 / 16-20 \n\n\n\n(La cassa chiude un’ora prima). \n\n\n\nINGRESSO \n\n\n\nBiglietto intero 10 euro \n\n\n\nRidotto 7 euro per gruppi di almeno 10 persone \n\n\n\nGratuito fino a 12 anni \n\n\n\nAudioguida inclusa
URL:https://sorrentoresidence.com/event/mostra-antonio-ligabue/
ATTACH;FMTTYPE=image/png:https://sorrentoresidence.com/wp-content/uploads/2024/07/antonio-ligabue-sorrento-mostra-villa-fiorentino-2024-fondazione-sorrento.png
END:VEVENT
BEGIN:VEVENT
DTSTART;TZID=UTC:20240804T080000
DTEND;TZID=UTC:20240806T170000
DTSTAMP:20260422T220603
CREATED:20240715T051428Z
LAST-MODIFIED:20240715T051437Z
UID:3711-1722758400-1722963600@sorrentoresidence.com
SUMMARY:Sagra del Raviulillo 2024
DESCRIPTION:La sagra che celebra il diavoletto sui carboni ardenti è in programma dal 4 al 6 agosto 2024. Si rinnova\, anche per il 2024\, l’appuntamento con la “Sagra del Riavulillo”\, un classico del panorama degli eventi estivi di Vico Equense. in programma nella frazione di Arola da domenica 6 a martedì 8 agosto.
URL:https://sorrentoresidence.com/event/sagra-del-raviulillo-2024/
ATTACH;FMTTYPE=image/jpeg:https://sorrentoresidence.com/wp-content/uploads/2024/07/449765890_18010207997529800_3040798845677149299_n.jpg
END:VEVENT
BEGIN:VEVENT
DTSTART;TZID=UTC:20240803T080000
DTEND;TZID=UTC:20240901T170000
DTSTAMP:20260422T220603
CREATED:20240802T040225Z
LAST-MODIFIED:20240802T040231Z
UID:3765-1722672000-1725210000@sorrentoresidence.com
SUMMARY:Beach Party a Marina GRande
DESCRIPTION:Otto appuntamenti per grandi e piccini presso gli arenili pubblici di Sorrento.
URL:https://sorrentoresidence.com/event/beach-party-a-marina-grande/
ATTACH;FMTTYPE=image/jpeg:https://sorrentoresidence.com/wp-content/uploads/2024/08/Screenshot_20240802_055950.jpg
END:VEVENT
BEGIN:VEVENT
DTSTART;TZID=UTC:20240801T080000
DTEND;TZID=UTC:20240803T170000
DTSTAMP:20260422T220603
CREATED:20240709T054008Z
LAST-MODIFIED:20240711T055628Z
UID:3696-1722499200-1722704400@sorrentoresidence.com
SUMMARY:A Vico per Ciacio!
DESCRIPTION:Annunciamo con grande entusiasmo l’edizione 2024 di 𝐀 𝐕𝐢𝐜𝐨 𝐏𝐞𝐫 𝐂𝐚𝐜𝐢𝐨o!  \n\n\n\nSegnate le date: 𝟏\, 𝟐 𝐞 𝟑 𝐚𝐠𝐨𝐬𝐭𝐨\, dalle ore 19.00\, nel suggestivo centro storico di Vico Equense. I caseifici di Vico parteciperanno per proporre e valorizzare i prodotti e la tradizione casearia della nostra terra. Un’occasione imperdibile per immergersi nei sapori autentici e nelle eccellenze gastronomiche locali. \n\n\n\nVenite a scoprire e degustare i nostri formaggi\, frutto di passione e maestria artigianale\, e a vivere serate indimenticabili all’insegna del gusto e della convivialità.   \n\n\n\nContinuate a seguirci per scoprire di più e restare sempre aggiornati! \n\n\n\n𝐀 𝐕𝐢𝐜𝐨 𝐏𝐞𝐫 𝐂𝐚𝐜𝐢𝐨 \n\n\n\n 1-2-3 Agosto 2024 \n\n\n\n Vico Equense (NA)
URL:https://sorrentoresidence.com/event/a-vico-per-ciacio/
ATTACH;FMTTYPE=image/jpeg:https://sorrentoresidence.com/wp-content/uploads/2024/07/Comunicato-A-Vico-per-Cacio-2024-2.jpg
END:VEVENT
BEGIN:VEVENT
DTSTART;TZID=UTC:20240727T080000
DTEND;TZID=UTC:20240727T170000
DTSTAMP:20260422T220603
CREATED:20240723T041659Z
LAST-MODIFIED:20240723T041702Z
UID:3731-1722067200-1722099600@sorrentoresidence.com
SUMMARY:Sant'Anna a Piedi Scalzi
DESCRIPTION:Evento per grandi e piccini in riva al mare.
URL:https://sorrentoresidence.com/event/santanna-a-piedi-scalzi/
ATTACH;FMTTYPE=image/jpeg:https://sorrentoresidence.com/wp-content/uploads/2024/07/IMG-20240723-WA0000.jpg
END:VEVENT
BEGIN:VEVENT
DTSTART;TZID=UTC:20240714T080000
DTEND;TZID=UTC:20240728T170000
DTSTAMP:20260422T220603
CREATED:20240615T142020Z
LAST-MODIFIED:20240615T142023Z
UID:3684-1720944000-1722186000@sorrentoresidence.com
SUMMARY:Mostra E.Marinella Mostra “Questa di Marinella è la Storia vera”Mostra E.Marinella
DESCRIPTION:Fondazione Sorrento\, in collaborazione con il Comune\, ha organizzato una serie di eventi e mostre dedicate al celebre “brand” italiano. \n\n\n\n“Ritratti di Made in Italy: Arte e Cultura da esportazione” è il nome della kermesse che mette al centro la maestrìa italiana in quattro mostre celebrative di altrettante eccellenze artistiche: Sacco Gioielli\, E. Marinella\, Ascione Coralli e i maestri della Tarsia Sorrentina. \n\n\n\nDopo la mostra dedicata all’Arte Orafa di Gerardo Sacco tocca all’arte sartoriale della celeberrima casa Marinella di Napoli. \n\n\n\nDal 14 Giugno al 28 Luglio 2024\, infatti\, le sale di Villa Fiorentino saranno vivacizzate dalla mostra – racconto dedicato alla nota Azienda E. Marinella che celebra i suoi 110 anni di attività.
URL:https://sorrentoresidence.com/event/mostra-e-marinella-mostra-questa-di-marinella-e-la-storia-veramostra-e-marinella/
ATTACH;FMTTYPE=image/webp:https://sorrentoresidence.com/wp-content/uploads/2024/06/Mostra-cravatte-di-E-Marinella-Villa-Fiorentino-Sorrento.webp
END:VEVENT
BEGIN:VEVENT
DTSTART;TZID=UTC:20240714T080000
DTEND;TZID=UTC:20240714T170000
DTSTAMP:20260422T220603
CREATED:20240711T055958Z
LAST-MODIFIED:20240711T060000Z
UID:3707-1720944000-1720976400@sorrentoresidence.com
SUMMARY:Limoni in festa 2024
DESCRIPTION:Evento imperdibile a Massa Lubrense dedicato alla tradizione enogastronomica sorrentina.
URL:https://sorrentoresidence.com/event/limoni-in-festa-2024/
ATTACH;FMTTYPE=image/webp:https://sorrentoresidence.com/wp-content/uploads/2024/07/limoni-in-festa-2024-massa-lubrense-about-sorrento.webp
END:VEVENT
BEGIN:VEVENT
DTSTART;TZID=UTC:20240711T080000
DTEND;TZID=UTC:20240726T170000
DTSTAMP:20260422T220603
CREATED:20240607T053702Z
LAST-MODIFIED:20240607T053705Z
UID:3659-1720684800-1722013200@sorrentoresidence.com
SUMMARY:Beats of Pompei
DESCRIPTION:Ben 10 concerti di 7 grandi artisti o gruppi musicali di livello internazionale nell’Anfiteatro di Pompei. Arriva il BOP\, Beats of Pompeii\, con la grande grande musica italiana e internazionale in uno dei luoghi più suggestivi d’Italia. \n\n\n\nDall’11 giugno al 26 luglio 2024 si terranno ben 10 concerti di 7 grandi artisti o gruppi musicali di livello internazionale nell’Anfiteatro di Pompei. L’occasione è il BOP\, Beats of Pompeii\, una rassegna di importanti concerti con grandi ospiti per 10 concerti straordinari: a Pompei infatti si esibiranno Ludovico Einaudi\, Biaggio Antonacci con ben 3 concerti e poi John Legend\, il Volo\, i Pooh\, Rassel Crowe e Francesco de Gregori. \n\n\n\nIl BOP\, Beats of Pompeii 2024 – programma \n\n\n\n11 giugno 2024 – John Legend \n\n\n\n9 luglio 2024 – Russell Crowe \n\n\n\n12 luglio 2024 – Ludovico Einaudi \n\n\n\n17 luglio 2024 – Il Volo \n\n\n\n18 luglio 2024 – Biagio Antonacci \n\n\n\n19 luglio 2024 – Biagio Antonacci \n\n\n\n20 luglio 2024 – Biagio Antonacci \n\n\n\n22 luglio 2024 – i Pooh \n\n\n\n26 luglio 2024 – Francesco De Gregori \n\n\n\nAcquista subito i tuoi biglietti su ticketone.it e ticketmaster.it e preparati a un’esperienza musicale senza precedenti.
URL:https://sorrentoresidence.com/event/beats-of-pompei/
ATTACH;FMTTYPE=image/png:https://sorrentoresidence.com/wp-content/uploads/2024/06/70x100_BOP_def-2.png-500.png
END:VEVENT
END:VCALENDAR