BEGIN:VCALENDAR
VERSION:2.0
PRODID:-//Residence Sorrento - ECPv6.15.20//NONSGML v1.0//EN
CALSCALE:GREGORIAN
METHOD:PUBLISH
X-ORIGINAL-URL:https://sorrentoresidence.com
X-WR-CALDESC:Eventi per Residence Sorrento
REFRESH-INTERVAL;VALUE=DURATION:PT1H
X-Robots-Tag:noindex
X-PUBLISHED-TTL:PT1H
BEGIN:VTIMEZONE
TZID:UTC
BEGIN:STANDARD
TZOFFSETFROM:+0000
TZOFFSETTO:+0000
TZNAME:UTC
DTSTART:20240101T000000
END:STANDARD
END:VTIMEZONE
BEGIN:VEVENT
DTSTART;TZID=UTC:20250401T080000
DTEND;TZID=UTC:20250402T170000
DTSTAMP:20260422T055953
CREATED:20250326T044944Z
LAST-MODIFIED:20250326T044953Z
UID:4192-1743494400-1743613200@sorrentoresidence.com
SUMMARY:Apertura di Primavera
DESCRIPTION:Mercoledì 2 Aprile il Museo Correale riaprirà al pubblico dopo la consueta chiusura invernale. Tante le novità di questa nuova stagione\, tra cui il riallestimento del Piano Blu con l’esposizione della collezione della Scuola di Posillipo\, la più ricca degli ultimi 60 anni. \n\n\n\nL’evento della riapertura sarà anticipato dall’insediamento del nuovo Direttore del Museo Correale Fabio Mangone\, Docente Universitario e Architetto\, che si terrà alla presenza del Presidente del Museo Correale Gaetano Mauro\, del Sindaco Massimo Coppola e del Soprintendente ABAP per l’Area Metropolitana di Napoli Mariano Nuzzo\, il giorno Martedì 1 Aprile alle ore 16 presso la Sala degli Specchi del Museo Correale.
URL:https://sorrentoresidence.com/event/apertura-di-primavera/
ATTACH;FMTTYPE=image/jpeg:https://sorrentoresidence.com/wp-content/uploads/2025/03/486089965_1256361459830735_3354334253287290442_n.jpg
END:VEVENT
BEGIN:VEVENT
DTSTART;TZID=UTC:20250406T080000
DTEND;TZID=UTC:20250531T170000
DTSTAMP:20260422T055953
CREATED:20250326T045444Z
LAST-MODIFIED:20250326T045447Z
UID:4200-1743926400-1748710800@sorrentoresidence.com
SUMMARY:Escursioni in Famiglia
DESCRIPTION:Con l’inizio della primavera\, incominciano le prima escursioni alla scoperta delle bellezze della Penisola Sorrentina. \n\n\n\nIniziamo con due perle della nostra terra: la Baia di Ieranto e Punta Campanella.
URL:https://sorrentoresidence.com/event/escursioni-in-famiglia/
ATTACH;FMTTYPE=image/jpeg:https://sorrentoresidence.com/wp-content/uploads/2025/03/Screenshot_20250326_052229_Instagram.jpg
END:VEVENT
BEGIN:VEVENT
DTSTART;TZID=UTC:20250410T080000
DTEND;TZID=UTC:20250413T170000
DTSTAMP:20260422T055953
CREATED:20250212T052207Z
LAST-MODIFIED:20250212T052216Z
UID:4122-1744272000-1744563600@sorrentoresidence.com
SUMMARY:1000 Miglia Experience Italy 2025
DESCRIPTION:Dall’esperienza e dal successo delle tre edizioni di Sorrento Roads nasce 1000 Miglia Experience Italy\, un evento che porterà lo spirito della Freccia Rossa lungo un percorso che va oltre i tracciati classici della 1000 Miglia\, esplorando nuovi territori dove la guida si fonde con il relax\, alla scoperta di luoghi e sapori indimenticabili. \n\n\n\nDal 10 al 13 aprile\, gli equipaggi\, partendo da Sorrento\, intraprenderanno un affascinante itinerario alla scoperta delle località più suggestive di Campania\, Basilicata e Puglia.
URL:https://sorrentoresidence.com/event/1000-miglia-experience-italy-2025/
ATTACH;FMTTYPE=image/jpeg:https://sorrentoresidence.com/wp-content/uploads/2025/02/md5-2744-scaled-1.jpg
END:VEVENT
BEGIN:VEVENT
DTSTART;TZID=UTC:20250413T080000
DTEND;TZID=UTC:20250418T170000
DTSTAMP:20260422T055953
CREATED:20250316T074641Z
LAST-MODIFIED:20250316T074649Z
UID:4167-1744531200-1744995600@sorrentoresidence.com
SUMMARY:Processioni Pasquali 2025
DESCRIPTION:Con il Carnevale ormai alle spalle\, la Penisola Sorrentina è proiettata verso Pasqua 2025 – il prossimo 20 Aprile – con le sue tradizioni uniche\, i suoi profumi caratteristici che sanno di fresie\, forno a legna e incenso; \n\n\n\nStanno per tornare le Processioni della Settimana Santa! \n\n\n\nLa Settima Santa 2025 con i suoi riti e cortei processionali\, avrà inizio Lunedì 13 e terminerà Venerdì 18 Aprile. \n\n\n\nDa Massa Lubrense a Vico Equense\, avranno luogo diverse manifestazioni e processioni. Seguici per non perderti nessun appuntamento!
URL:https://sorrentoresidence.com/event/processioni-pasquali-2025/
ATTACH;FMTTYPE=image/jpeg:https://sorrentoresidence.com/wp-content/uploads/2025/03/7329046_05071320_received_230351459489398_002_.jpg
END:VEVENT
BEGIN:VEVENT
DTSTART;TZID=UTC:20250425T080000
DTEND;TZID=UTC:20250427T170000
DTSTAMP:20260422T055953
CREATED:20250322T055409Z
LAST-MODIFIED:20250322T055418Z
UID:4183-1745568000-1745773200@sorrentoresidence.com
SUMMARY:Raduno Kayak
DESCRIPTION:Unisciti al Raduno Nazionale di Sea Kayak!  \n\n\n\nIl 25\, 26 e 27 Aprile\, il Circolo Nautico Marina di Alimuri a Meta (NA) si prepara a ospitare un evento imperdibile: PAGAIANDO CON LE SIRENE!  \n\n\n\nTre giorni dedicati agli appassionati di paddle\, dove potrete non solo mettervi alla prova con le onde\, ma anche partecipare a un coinvolgente workshop itinerante sulla sicurezza e conduzione. Un’importante opportunità per migliorare le proprie competenze e divertirsi insieme a tanti altri amanti del mare!
URL:https://sorrentoresidence.com/event/raduno-kayak/
ATTACH;FMTTYPE=image/jpeg:https://sorrentoresidence.com/wp-content/uploads/2025/03/486057185_18040088780616182_7384253173375915457_n-1.jpg
END:VEVENT
BEGIN:VEVENT
DTSTART;TZID=UTC:20250425T080000
DTEND;TZID=UTC:20250504T170000
DTSTAMP:20260422T055953
CREATED:20250215T082822Z
LAST-MODIFIED:20250215T084323Z
UID:4130-1745568000-1746378000@sorrentoresidence.com
SUMMARY:FERRAPRILE 2025
DESCRIPTION:QUEST’ ANNO TORNA IL FERRAPRILE  \n\n\n\nLa combinazione di Pasqua con il 25 aprile e il 1° Maggio consente\, con solo quattro giorni di ferie\, di avere ben 12 giorni di vacanza!!! \n\n\n\nLa primavera è sicuramente il periodo dell’anno migliore per godersi Sorrento. Il clima è più piacevole e Sorrento è al massimo del suo splendore\, col profumo di fior d’arancio che invade l’aria e le lunghe giornate di sole. \n\n\n\nLe temperature sono piacevoli e si può passeggiare durante il giorno senza problemi. \n\n\n\nQuesti mesi sono ideali per visitare Napoli\, il Vesuvio\, Pompei ed Ercolano\, località facilmente raggiungibili con la Circumvesuviana da Sorrento. Riprendono i collegamenti via mare tra Sorrento\, Positano\, Amalfi\, Capri. \n\n\n\nE poi…è Pasqua! \n\n\n\nLa Pasqua è uno dei periodi più belli dell’anno per visitare Sorrento. \n\n\n\nLe tradizionali processioni della Settimana Santa in Penisola Sorrentina\, si svolgono a partire da Meta \, Piano di Sorrento \, Sant’Agnello e Sorrento . Antichissime tradizioni che permettono di rivivere la Passione di Cristo e comunicano la spiritualità di questi giorni di festa. \n\n\n\nLa cucina delle feste Pasquali è eccezionale e esprime tutta la sua bontà nel dolce della tradizione Napoletana: la Pastiera! \n\n\n\nE per non dimenticare la tradizione delle palme di confetti che ci rende famosi in tutto il mondo! \n\n\n\nInsomma che aspetti a prenotare la tua vacanza MEGA VACANZA a Residence Sorrento? Chiama subito al 338 684 6195/+393358067060 o visita il nostro sito www.sorrentoresidence.com
URL:https://sorrentoresidence.com/event/ferraprile-2025/
ATTACH;FMTTYPE=image/webp:https://sorrentoresidence.com/wp-content/uploads/2025/02/residence.webp
END:VEVENT
END:VCALENDAR