BEGIN:VCALENDAR
VERSION:2.0
PRODID:-//Residence Sorrento - ECPv6.15.20//NONSGML v1.0//EN
CALSCALE:GREGORIAN
METHOD:PUBLISH
X-ORIGINAL-URL:https://sorrentoresidence.com
X-WR-CALDESC:Eventi per Residence Sorrento
REFRESH-INTERVAL;VALUE=DURATION:PT1H
X-Robots-Tag:noindex
X-PUBLISHED-TTL:PT1H
BEGIN:VTIMEZONE
TZID:UTC
BEGIN:STANDARD
TZOFFSETFROM:+0000
TZOFFSETTO:+0000
TZNAME:UTC
DTSTART:20250101T000000
END:STANDARD
END:VTIMEZONE
BEGIN:VEVENT
DTSTART;TZID=UTC:20260305T080000
DTEND;TZID=UTC:20260315T170000
DTSTAMP:20260421T113440
CREATED:20260305T050826Z
LAST-MODIFIED:20260305T050828Z
UID:4368-1772697600-1773594000@sorrentoresidence.com
SUMMARY:Resistenza Creative
DESCRIPTION:La Fondazione Sorrento presenta {R}Esistenze Creative\, mostra collettiva di pittura\, scultura e fotografia\, in programma a Villa Fiorentino dal 20 febbraio al 15 marzo 2026. \n\n\n\nL’esposizione propone un percorso artistico articolato\, che mette al centro la creatività come forma di resistenza culturale e contemporanea.
URL:https://sorrentoresidence.com/event/resistenza-creative/
ATTACH;FMTTYPE=image/jpeg:https://sorrentoresidence.com/wp-content/uploads/2026/03/647168462_1335755051906968_195279443436619262_n.jpg
END:VEVENT
END:VCALENDAR